FILENAME: O4511156.SES.830056.tif
QUADRANGLE_NAME: RAMSHORN PEAK
QUADRANT: SE
WEST_LONGITUDE: -111 3 45.00000
EAST_LONGITUDE: -111 0 0.00000
NORTH_LATITUDE: 45 11 15.00000
SOUTH_LATITUDE: 45 7 30.00000
PRODUCTION_DATE: 1997 11 4
RASTER_ORDER: LEFT_RIGHT/TOP_BOTTOM
BAND_ORGANIZATION: SINGLE FILE
BAND_CONTENT: BLACK&WHITE
BAND_CONTENT: UNDEFINED
BAND_CONTENT: UNDEFINED
BITS_PER_PIXEL: 8
SAMPLES_AND_LINES: 5579 7556
HORIZONTAL_DATUM: NAD83
HORIZONTAL_COORDINATE_SYSTEM: UTM
COORDINATE_ZONE: 12
HORIZONTAL_UNITS: METERS
HORIZONTAL_RESOLUTION: 1.00000
SECONDARY_HORIZONTAL_DATUM: NAD27
XY_ORIGIN: 494722.00000 5004082.00000
SECONDARY_XY_ORIGIN: 494783.11600 5003872.28700
NATION: US
NATION: "SCIENCE
STATE: MT
NW_QUAD_CORNER_XY: 495090.13700 5003781.51600
NE_QUAD_CORNER_XY: 500000.00000 5003779.61700
SE_QUAD_CORNERY_XY: 500000.00000 4996836.46800
SW_QUAD_CORNER_XY: 495084.76600 4996838.36800
SECONDARY_NW_QUAD_XY: 495089.99100 5003564.16300
SECONDARY_NE_QUAD_XY: 500000.00000 5003562.26300
SECONDARY_SE_QUAD_XY: 500000.00000 4996619.16800
SECONDARY_SW_QUAD_XY: 495084.62100 4996621.06800
RMSE_XY: 0.90000
IMAGE_SOURCE: BLACK AND WHITE FILM
SOURCE_IMAGE_ID: NAPP 8375 180
SOURCE_IMAGE_DATE: 1995 08 12
SOURCE_IMAGE_ID: NAPP 7831 154
SOURCE_IMAGE_DATE: 1994 09 06
SOURCE_IMAGE_ID: NAPP 8375 179
SOURCE_IMAGE_DATE: 1995 08 12
SOURCE_DEM_DATE: 1997 01 01
AGENCY: WESTERN MAPPING CENTER (WMC)
PRODUCER: UNDEFINED
PRODUCTION_SYSTEM: GIS/MAGIC
COMPRESSION: UNDEFINED
STANDARD_VERSION: 1996 12
METADATA_DATE: 1997 11 13
DATA_FILE_SIZE: 42160503
BYTE_COUNT: 5579
