FILENAME: O4511156.NWS.830055.tif
QUADRANGLE_NAME: RAMSHORN PEAK
QUADRANT: NW
WEST_LONGITUDE: -111 7 30.00000
EAST_LONGITUDE: -111 3 45.00000
NORTH_LATITUDE: 45 15 0.00000
SOUTH_LATITUDE: 45 11 15.00000
PRODUCTION_DATE: 1997 11 4
RASTER_ORDER: LEFT_RIGHT/TOP_BOTTOM
BAND_ORGANIZATION: SINGLE FILE
BAND_CONTENT: BLACK&WHITE
BAND_CONTENT: UNDEFINED
BAND_CONTENT: UNDEFINED
BITS_PER_PIXEL: 8
SAMPLES_AND_LINES: 5580 7560
HORIZONTAL_DATUM: NAD83
HORIZONTAL_COORDINATE_SYSTEM: UTM
COORDINATE_ZONE: 12
HORIZONTAL_UNITS: METERS
HORIZONTAL_RESOLUTION: 1.00000
SECONDARY_HORIZONTAL_DATUM: NAD27
XY_ORIGIN: 489817.00000 5011031.00000
SECONDARY_XY_ORIGIN: 489878.11200 5010821.23900
NATION: US
NATION: "SCIENCE
STATE: MT
NW_QUAD_CORNER_XY: 490191.02500 5010730.44000
NE_QUAD_CORNER_XY: 495095.51200 5010724.74100
SE_QUAD_CORNERY_XY: 495090.13700 5003781.51600
SW_QUAD_CORNER_XY: 490180.27300 5003787.21600
SECONDARY_NW_QUAD_XY: 490190.73400 5010513.03400
SECONDARY_NE_QUAD_XY: 495095.36700 5010507.33500
SECONDARY_SE_QUAD_XY: 495089.99100 5003564.16300
SECONDARY_SW_QUAD_XY: 490179.98200 5003569.86200
RMSE_XY: 2.00000
IMAGE_SOURCE: BLACK AND WHITE FILM
SOURCE_IMAGE_ID: NAPP 8375 186
SOURCE_IMAGE_DATE: 1995 08 12
SOURCE_IMAGE_ID: NAPP 8375 156
SOURCE_IMAGE_DATE: 1995 08 12
SOURCE_IMAGE_ID: NAPP 8375 185
SOURCE_IMAGE_DATE: 1995 08 12
SOURCE_IMAGE_ID: NAPP 8375 187
SOURCE_IMAGE_DATE: 1995 08 12
SOURCE_DEM_DATE: 1997 01 01
AGENCY: WESTERN MAPPING CENTER (WMC)
PRODUCER: UNDEFINED
PRODUCTION_SYSTEM: GIS/MAGIC
COMPRESSION: UNDEFINED
STANDARD_VERSION: 1996 12
METADATA_DATE: 1997 11 13
DATA_FILE_SIZE: 42190380
BYTE_COUNT: 5580
