FILENAME: O4511157.NWS.789332.tif
QUADRANGLE_NAME: WARM SPRINGS CREEK
QUADRANT: NW
WEST_LONGITUDE: -112 0 0.00000
EAST_LONGITUDE: -111 56 15.00000
NORTH_LATITUDE: 45 7 30.00000
SOUTH_LATITUDE: 45 3 45.00000
PRODUCTION_DATE: 1997 11 24
RASTER_ORDER: LEFT_RIGHT/TOP_BOTTOM
BAND_ORGANIZATION: SINGLE FILE
BAND_CONTENT: BLACK&WHITE
BAND_CONTENT: UNDEFINED
BAND_CONTENT: UNDEFINED
BITS_PER_PIXEL: 8
SAMPLES_AND_LINES: 5665 7610
HORIZONTAL_DATUM: NAD83
HORIZONTAL_COORDINATE_SYSTEM: UTM
COORDINATE_ZONE: 12
HORIZONTAL_UNITS: METERS
HORIZONTAL_RESOLUTION: 1.00000
SECONDARY_HORIZONTAL_DATUM: NAD27
XY_ORIGIN: 420907.43900 4997622.33600
SECONDARY_XY_ORIGIN: 420968.79000 4997412.90500
NATION: US
STATE: MT
NW_QUAD_CORNER_XY: 421356.27400 4997322.83600
NE_QUAD_CORNER_XY: 426271.50600 4997263.93700
SE_QUAD_CORNERY_XY: 426191.03600 4990320.86600
SW_QUAD_CORNER_XY: 421270.43800 4990379.76500
SECONDARY_NW_QUAD_XY: 421353.94700 4997105.55000
SECONDARY_NE_QUAD_XY: 426269.32400 4997046.64900
SECONDARY_SE_QUAD_XY: 426188.85400 4990103.63300
SECONDARY_SW_QUAD_XY: 421268.11200 4990162.53400
RMSE_XY: 3.60000
IMAGE_SOURCE: BLACK AND WHITE FILM
SOURCE_IMAGE_ID: NAPP 8376 152
SOURCE_IMAGE_DATE: 1995 8 15
SOURCE_DEM_DATE: 1997 11 24
AGENCY: WESTERN MAPPING CENTER (WMC)
PRODUCER: NIES MAPPING GROUP
PRODUCTION_SYSTEM: INTERGRAPH- ISPM,ISIR
COMPRESSION: UNDEFINED
STANDARD_VERSION: 1996 12
METADATA_DATE: 1998 2 27
DATA_FILE_SIZE: 43116315
BYTE_COUNT: 5665
