FILENAME: O4511158.NWS.789338.tif
QUADRANGLE_NAME: BROOMTAIL RIDGE
QUADRANT: NW
WEST_LONGITUDE: -111 52 30.00000
EAST_LONGITUDE: -111 48 45.00000
NORTH_LATITUDE: 45 7 30.00000
SOUTH_LATITUDE: 45 3 45.00000
PRODUCTION_DATE: 1997 11 24
RASTER_ORDER: LEFT_RIGHT/TOP_BOTTOM
BAND_ORGANIZATION: SINGLE FILE
BAND_CONTENT: BLACK&WHITE
BAND_CONTENT: UNDEFINED
BAND_CONTENT: UNDEFINED
BITS_PER_PIXEL: 8
SAMPLES_AND_LINES: 5654 7602
HORIZONTAL_DATUM: NAD83
HORIZONTAL_COORDINATE_SYSTEM: UTM
COORDINATE_ZONE: 12
HORIZONTAL_UNITS: METERS
HORIZONTAL_RESOLUTION: 1.00000
SECONDARY_HORIZONTAL_DATUM: NAD27
XY_ORIGIN: 430748.60200 4997508.33900
SECONDARY_XY_ORIGIN: 430810.15400 4997298.77400
NATION: US
STATE: MT
NW_QUAD_CORNER_XY: 431186.73800 4997208.83900
NE_QUAD_CORNER_XY: 436101.97000 4997157.54100
SE_QUAD_CORNERY_XY: 436032.23100 4990214.47000
SW_QUAD_CORNER_XY: 431111.63300 4990265.76800
SECONDARY_NW_QUAD_XY: 431184.70100 4996991.55000
SECONDARY_NE_QUAD_XY: 436100.07900 4996940.25100
SECONDARY_SE_QUAD_XY: 436030.34000 4989997.23400
SECONDARY_SW_QUAD_XY: 431109.59700 4990048.53300
RMSE_XY: 1.60000
IMAGE_SOURCE: BLACK AND WHITE FILM
SOURCE_IMAGE_ID: NAPP 8376 230
SOURCE_IMAGE_DATE: 1995 8 15
SOURCE_DEM_DATE: 1997 11 24
AGENCY: WESTERN MAPPING CENTER (WMC)
PRODUCER: NIES MAPPING GROUP
PRODUCTION_SYSTEM: INTERGRAPH- ISPM,ISIR
COMPRESSION: UNDEFINED
STANDARD_VERSION: 1996 12
METADATA_DATE: 1998 2 27
DATA_FILE_SIZE: 42987362
BYTE_COUNT: 5654
