FILENAME: O4511161.NWS.980274.tif
QUADRANGLE_NAME: KOCH PEAK
QUADRANT: NW
WEST_LONGITUDE: -111 30 0.00000
EAST_LONGITUDE: -111 26 15.00000
NORTH_LATITUDE: 45 7 30.00000
SOUTH_LATITUDE: 45 3 45.00000
PRODUCTION_DATE: 1999 3 9
RASTER_ORDER: LEFT_RIGHT/TOP_BOTTOM
BAND_ORGANIZATION: SINGLE FILE
BAND_CONTENT: BLACK&WHITE
BAND_CONTENT: UNDEFINED
BAND_CONTENT: UNDEFINED
BITS_PER_PIXEL: 8
SAMPLES_AND_LINES: 5624 7583
HORIZONTAL_DATUM: NAD83
HORIZONTAL_COORDINATE_SYSTEM: UTM
COORDINATE_ZONE: 12
HORIZONTAL_UNITS: METERS
HORIZONTAL_RESOLUTION: 1.00000
SECONDARY_HORIZONTAL_DATUM: NAD27
XY_ORIGIN: 460271.00000 4997259.00000
SECONDARY_XY_ORIGIN: 460332.55500 4997049.32900
NATION: US
NATION: "SCIENCE
STATE: MT
NW_QUAD_CORNER_XY: 460678.13300 4996958.05500
NE_QUAD_CORNER_XY: 465593.36600 4996929.55800
SE_QUAD_CORNERY_XY: 465555.81600 4989986.48600
SW_QUAD_CORNER_XY: 460635.21800 4990014.98300
SECONDARY_NW_QUAD_XY: 460676.96900 4996740.75800
SECONDARY_NE_QUAD_XY: 465592.34800 4996712.26000
SECONDARY_SE_QUAD_XY: 465554.79800 4989769.24300
SECONDARY_SW_QUAD_XY: 460634.05500 4989797.74100
RMSE_XY: 2.70000
IMAGE_SOURCE: BLACK AND WHITE FILM
SOURCE_IMAGE_ID: NAPP 8374 082
SOURCE_IMAGE_DATE: 1995 08 12
SOURCE_IMAGE_ID: NAPP 8374 108
SOURCE_IMAGE_DATE: 1995 08 12
SOURCE_IMAGE_ID: NAPP 8374 081
SOURCE_IMAGE_DATE: 1995 08 12
SOURCE_IMAGE_ID: NAPP 8374 083
SOURCE_IMAGE_DATE: 1995 08 12
SOURCE_DEM_DATE: 1997 01 01
AGENCY: WESTERN MAPPING CENTER (WMC)
PRODUCER: UNDEFINED
PRODUCTION_SYSTEM: GIS/MAGIC
COMPRESSION: UNDEFINED
STANDARD_VERSION: 1996 12
METADATA_DATE: 1999 03 26
DATA_FILE_SIZE: 42652416
BYTE_COUNT: 5624
