FILENAME: O4511162.SES.830114.tif
QUADRANGLE_NAME: LINCOLN MOUNTAIN
QUADRANT: SE
WEST_LONGITUDE: -111 18 45.00000
EAST_LONGITUDE: -111 15 0.00000
NORTH_LATITUDE: 45 3 45.00000
SOUTH_LATITUDE: 45 0 0.00000
PRODUCTION_DATE: 1997 11 12
RASTER_ORDER: LEFT_RIGHT/TOP_BOTTOM
BAND_ORGANIZATION: SINGLE FILE
BAND_CONTENT: BLACK&WHITE
BAND_CONTENT: UNDEFINED
BAND_CONTENT: UNDEFINED
BITS_PER_PIXEL: 8
SAMPLES_AND_LINES: 5612 7571
HORIZONTAL_DATUM: NAD83
HORIZONTAL_COORDINATE_SYSTEM: UTM
COORDINATE_ZONE: 12
HORIZONTAL_UNITS: METERS
HORIZONTAL_RESOLUTION: 1.00000
SECONDARY_HORIZONTAL_DATUM: NAD27
XY_ORIGIN: 475007.00000 4990241.00000
SECONDARY_XY_ORIGIN: 475068.38300 4990031.51300
NATION: US
NATION: "SCIENCE
STATE: MT
NW_QUAD_CORNER_XY: 475397.01100 4989940.89100
NE_QUAD_CORNER_XY: 480317.60900 4989923.79200
SE_QUAD_CORNERY_XY: 480296.17600 4982980.79600
SW_QUAD_CORNER_XY: 475370.22000 4982997.89500
SECONDARY_NW_QUAD_XY: 475396.28400 4989723.64600
SECONDARY_NE_QUAD_XY: 480317.02700 4989706.54700
SECONDARY_SE_QUAD_XY: 480295.59400 4982763.60600
SECONDARY_SW_QUAD_XY: 475369.49300 4982780.70500
RMSE_XY: 1.50000
IMAGE_SOURCE: BLACK AND WHITE FILM
SOURCE_IMAGE_ID: NAPP 8375 213
SOURCE_IMAGE_DATE: 1995 08 12
SOURCE_IMAGE_ID: NAPP 8375 214
SOURCE_IMAGE_DATE: 1995 08 12
SOURCE_DEM_DATE: 1997 01 01
AGENCY: WESTERN MAPPING CENTER (WMC)
PRODUCER: UNDEFINED
PRODUCTION_SYSTEM: GIS/MAGIC
COMPRESSION: UNDEFINED
STANDARD_VERSION: 1996 12
METADATA_DATE: 1997 11 13
DATA_FILE_SIZE: 42494064
BYTE_COUNT: 5612
