FILENAME: O4511163.SWS.830073.tif
QUADRANGLE_NAME: SUNSHINE POINT
QUADRANT: SW
WEST_LONGITUDE: -111 15 0.00000
EAST_LONGITUDE: -111 11 15.00000
NORTH_LATITUDE: 45 3 45.00000
SOUTH_LATITUDE: 45 0 0.00000
PRODUCTION_DATE: 1997 11 4
RASTER_ORDER: LEFT_RIGHT/TOP_BOTTOM
BAND_ORGANIZATION: SINGLE FILE
BAND_CONTENT: BLACK&WHITE
BAND_CONTENT: UNDEFINED
BAND_CONTENT: UNDEFINED
BITS_PER_PIXEL: 8
SAMPLES_AND_LINES: 5607 7567
HORIZONTAL_DATUM: NAD83
HORIZONTAL_COORDINATE_SYSTEM: UTM
COORDINATE_ZONE: 12
HORIZONTAL_UNITS: METERS
HORIZONTAL_RESOLUTION: 1.00000
SECONDARY_HORIZONTAL_DATUM: NAD27
XY_ORIGIN: 479933.00000 4990224.00000
SECONDARY_XY_ORIGIN: 479994.31300 4990014.54700
NATION: US
NATION: "SCIENCE
STATE: MT
NW_QUAD_CORNER_XY: 480317.60900 4989923.79200
NE_QUAD_CORNER_XY: 485238.20700 4989910.49400
SE_QUAD_CORNERY_XY: 485222.13200 4982967.49800
SW_QUAD_CORNER_XY: 480296.17600 4982980.79600
SECONDARY_NW_QUAD_XY: 480317.02700 4989706.54700
SECONDARY_NE_QUAD_XY: 485237.77100 4989693.24800
SECONDARY_SE_QUAD_XY: 485221.69600 4982750.30800
SECONDARY_SW_QUAD_XY: 480295.59400 4982763.60600
RMSE_XY: 1.60000
IMAGE_SOURCE: BLACK AND WHITE FILM
SOURCE_IMAGE_ID: NAPP 8375 116
SOURCE_IMAGE_DATE: 1995 08 12
SOURCE_IMAGE_ID: NAPP 8375 151
SOURCE_IMAGE_DATE: 1995 08 12
SOURCE_DEM_DATE: 1997 01 01
AGENCY: WESTERN MAPPING CENTER (WMC)
PRODUCER: UNDEFINED
PRODUCTION_SYSTEM: GIS/MAGIC
COMPRESSION: UNDEFINED
STANDARD_VERSION: 1996 12
METADATA_DATE: 1997 11 13
DATA_FILE_SIZE: 42433776
BYTE_COUNT: 5607
