FILENAME: O4511163.SES.830072.tif
QUADRANGLE_NAME: SUNSHINE POINT
QUADRANT: SE
WEST_LONGITUDE: -111 11 15.00000
EAST_LONGITUDE: -111 7 30.00000
NORTH_LATITUDE: 45 3 45.00000
SOUTH_LATITUDE: 45 0 0.00000
PRODUCTION_DATE: 1997 11 12
RASTER_ORDER: LEFT_RIGHT/TOP_BOTTOM
BAND_ORGANIZATION: SINGLE FILE
BAND_CONTENT: BLACK&WHITE
BAND_CONTENT: UNDEFINED
BAND_CONTENT: UNDEFINED
BITS_PER_PIXEL: 8
SAMPLES_AND_LINES: 5601 7563
HORIZONTAL_DATUM: NAD83
HORIZONTAL_COORDINATE_SYSTEM: UTM
COORDINATE_ZONE: 12
HORIZONTAL_UNITS: METERS
HORIZONTAL_RESOLUTION: 1.00000
SECONDARY_HORIZONTAL_DATUM: NAD27
XY_ORIGIN: 484859.00000 4990211.00000
SECONDARY_XY_ORIGIN: 484920.27200 4990001.52200
NATION: US
NATION: "SCIENCE
STATE: MT
NW_QUAD_CORNER_XY: 485238.20700 4989910.49400
NE_QUAD_CORNER_XY: 490158.80500 4989900.99500
SE_QUAD_CORNERY_XY: 490148.08800 4982957.99900
SW_QUAD_CORNER_XY: 485222.13200 4982967.49800
SECONDARY_NW_QUAD_XY: 485237.77100 4989693.24800
SECONDARY_NE_QUAD_XY: 490158.51400 4989683.74900
SECONDARY_SE_QUAD_XY: 490147.79700 4982740.80800
SECONDARY_SW_QUAD_XY: 485221.69600 4982750.30800
RMSE_XY: 2.20000
IMAGE_SOURCE: BLACK AND WHITE FILM
SOURCE_IMAGE_ID: NAPP 8375 151
SOURCE_IMAGE_DATE: 1995 08 12
SOURCE_IMAGE_ID: NAPP 8375 149
SOURCE_IMAGE_DATE: 1995 08 12
SOURCE_IMAGE_ID: NAPP 8375 150
SOURCE_IMAGE_DATE: 1995 08 12
SOURCE_IMAGE_ID: NAPP 8375 152
SOURCE_IMAGE_DATE: 1995 08 12
SOURCE_DEM_DATE: 1997 01 01
AGENCY: WESTERN MAPPING CENTER (WMC)
PRODUCER: UNDEFINED
PRODUCTION_SYSTEM: GIS/MAGIC
COMPRESSION: UNDEFINED
STANDARD_VERSION: 1996 12
METADATA_DATE: 1997 11 13
DATA_FILE_SIZE: 42365964
BYTE_COUNT: 5601
