FILENAME: O4511164.SWS.830064.tif
QUADRANGLE_NAME: BIG HORN PEAK
QUADRANT: SW
WEST_LONGITUDE: -111 7 30.00000
EAST_LONGITUDE: -111 3 45.00000
NORTH_LATITUDE: 45 3 45.00000
SOUTH_LATITUDE: 45 0 0.00000
PRODUCTION_DATE: 1997 11 4
RASTER_ORDER: LEFT_RIGHT/TOP_BOTTOM
BAND_ORGANIZATION: SINGLE FILE
BAND_CONTENT: BLACK&WHITE
BAND_CONTENT: UNDEFINED
BAND_CONTENT: UNDEFINED
BITS_PER_PIXEL: 8
SAMPLES_AND_LINES: 5596 7559
HORIZONTAL_DATUM: NAD83
HORIZONTAL_COORDINATE_SYSTEM: UTM
COORDINATE_ZONE: 12
HORIZONTAL_UNITS: METERS
HORIZONTAL_RESOLUTION: 1.00000
SECONDARY_HORIZONTAL_DATUM: NAD27
XY_ORIGIN: 489785.00000 4990201.00000
SECONDARY_XY_ORIGIN: 489846.23100 4989991.49600
NATION: US
NATION: "SCIENCE
STATE: MT
NW_QUAD_CORNER_XY: 490158.80500 4989900.99500
NE_QUAD_CORNER_XY: 495079.40200 4989895.29600
SE_QUAD_CORNERY_XY: 495074.04400 4982952.30000
SW_QUAD_CORNER_XY: 490148.08800 4982957.99900
SECONDARY_NW_QUAD_XY: 490158.51400 4989683.74900
SECONDARY_NE_QUAD_XY: 495079.25700 4989678.05000
SECONDARY_SE_QUAD_XY: 495073.89900 4982735.10900
SECONDARY_SW_QUAD_XY: 490147.79700 4982740.80800
RMSE_XY: 1.70000
IMAGE_SOURCE: BLACK AND WHITE FILM
SOURCE_IMAGE_ID: NAPP 7817 078
SOURCE_IMAGE_DATE: 1994 06 27
SOURCE_IMAGE_ID: NAPP 7817 077
SOURCE_IMAGE_DATE: 1994 06 27
SOURCE_DEM_DATE: 1997 01 01
AGENCY: WESTERN MAPPING CENTER (WMC)
PRODUCER: UNDEFINED
PRODUCTION_SYSTEM: GIS/MAGIC
COMPRESSION: UNDEFINED
STANDARD_VERSION: 1996 12
METADATA_DATE: 1997 11 13
DATA_FILE_SIZE: 42305760
BYTE_COUNT: 5596
