FILENAME: O4511003.NWS.1112023.tif
QUADRANGLE_NAME: WILSALL
QUADRANT: NW
WEST_LONGITUDE: -110 45 0.00000
EAST_LONGITUDE: -110 41 15.00000
NORTH_LATITUDE: 46 0 0.00000
SOUTH_LATITUDE: 45 56 15.00000
PRODUCTION_DATE: 2000 10 11
RASTER_ORDER: LEFT_RIGHT/TOP_BOTTOM
BAND_ORGANIZATION: SINGLE FILE
BAND_CONTENT: BLACK&WHITE
BAND_CONTENT: UNDEFINED
BAND_CONTENT: UNDEFINED
BITS_PER_PIXEL: 8
SAMPLES_AND_LINES: 5580 7620
HORIZONTAL_DATUM: NAD83
HORIZONTAL_COORDINATE_SYSTEM: UTM
COORDINATE_ZONE: 12
HORIZONTAL_UNITS: METERS
HORIZONTAL_RESOLUTION: 1.00000
SECONDARY_HORIZONTAL_DATUM: NAD27
XY_ORIGIN: 518970.00000 5094420.00000
SECONDARY_XY_ORIGIN: 519030.04900 5094209.73800
NATION: US
STATE: MT
NW_QUAD_CORNER_XY: 519358.07600 5094077.87200
NE_QUAD_CORNER_XY: 524197.59400 5094094.96100
SE_QUAD_CORNERY_XY: 524224.82500 5087150.82300
SW_QUAD_CORNER_XY: 519379.86100 5087133.73300
SECONDARY_NW_QUAD_XY: 519358.66000 5093859.90100
SECONDARY_NE_QUAD_XY: 524198.32400 5093876.99100
SECONDARY_SE_QUAD_XY: 524225.55400 5086932.89600
SECONDARY_SW_QUAD_XY: 519380.44500 5086915.80500
RMSE_XY: 1.55000
IMAGE_SOURCE: BLACK AND WHITE FILM
SOURCE_IMAGE_ID: NAPP 11006 67
SOURCE_IMAGE_DATE: 1998 07 21
SOURCE_DEM_DATE: 1980 00 00
AGENCY: WESTERN MAPPING CENTER (WMC)
PRODUCER: ANALYTICAL SURVEYS INC.
PRODUCTION_SYSTEM: ORBIT OR_RECTIFY V.5.2
COMPRESSION: UNDEFINED
STANDARD_VERSION: 1996 12
METADATA_DATE: 2000 10 12
DATA_FILE_SIZE: 42525180
BYTE_COUNT: 5580
