FILENAME: O4511003.NES.1112021.tif
QUADRANGLE_NAME: WILSALL
QUADRANT: NE
WEST_LONGITUDE: -110 41 15.00000
EAST_LONGITUDE: -110 37 30.00000
NORTH_LATITUDE: 46 0 0.00000
SOUTH_LATITUDE: 45 56 15.00000
PRODUCTION_DATE: 2000 10 11
RASTER_ORDER: LEFT_RIGHT/TOP_BOTTOM
BAND_ORGANIZATION: SINGLE FILE
BAND_CONTENT: BLACK&WHITE
BAND_CONTENT: UNDEFINED
BAND_CONTENT: UNDEFINED
BITS_PER_PIXEL: 8
SAMPLES_AND_LINES: 5550 7590
HORIZONTAL_DATUM: NAD83
HORIZONTAL_COORDINATE_SYSTEM: UTM
COORDINATE_ZONE: 12
HORIZONTAL_UNITS: METERS
HORIZONTAL_RESOLUTION: 1.00000
SECONDARY_HORIZONTAL_DATUM: NAD27
XY_ORIGIN: 523830.00000 5094420.00000
SECONDARY_XY_ORIGIN: 523889.99200 5094209.66800
NATION: US
STATE: MT
NW_QUAD_CORNER_XY: 524197.59400 5094094.96100
NE_QUAD_CORNER_XY: 529037.11100 5094115.84700
SE_QUAD_CORNERY_XY: 529069.78700 5087171.71100
SW_QUAD_CORNER_XY: 524224.82500 5087150.82300
SECONDARY_NW_QUAD_XY: 524198.32400 5093876.99100
SECONDARY_NE_QUAD_XY: 529037.98700 5093897.87800
SECONDARY_SE_QUAD_XY: 529070.66300 5086953.78400
SECONDARY_SW_QUAD_XY: 524225.55400 5086932.89600
RMSE_XY: 1.81000
IMAGE_SOURCE: BLACK AND WHITE FILM
SOURCE_IMAGE_ID: NAPP 11006 56
SOURCE_IMAGE_DATE: 1998 07 21
SOURCE_DEM_DATE: 1980 00 00
AGENCY: WESTERN MAPPING CENTER (WMC)
PRODUCER: ANALYTICAL SURVEYS INC.
PRODUCTION_SYSTEM: ORBIT OR_RECTIFY V.5.2
COMPRESSION: UNDEFINED
STANDARD_VERSION: 1996 12
METADATA_DATE: 2000 10 12
DATA_FILE_SIZE: 42130050
BYTE_COUNT: 5550
