FILENAME: O4511004.NWS.1112029.tif
QUADRANGLE_NAME: CLYDE PARK
QUADRANT: NW
WEST_LONGITUDE: -110 37 30.00000
EAST_LONGITUDE: -110 33 45.00000
NORTH_LATITUDE: 46 0 0.00000
SOUTH_LATITUDE: 45 56 15.00000
PRODUCTION_DATE: 2000 10 10
RASTER_ORDER: LEFT_RIGHT/TOP_BOTTOM
BAND_ORGANIZATION: SINGLE FILE
BAND_CONTENT: BLACK&WHITE
BAND_CONTENT: UNDEFINED
BAND_CONTENT: UNDEFINED
BITS_PER_PIXEL: 8
SAMPLES_AND_LINES: 5580 7590
HORIZONTAL_DATUM: NAD83
HORIZONTAL_COORDINATE_SYSTEM: UTM
COORDINATE_ZONE: 12
HORIZONTAL_UNITS: METERS
HORIZONTAL_RESOLUTION: 1.00000
SECONDARY_HORIZONTAL_DATUM: NAD27
XY_ORIGIN: 528660.00000 5094450.00000
SECONDARY_XY_ORIGIN: 528719.93500 5094239.59900
NATION: US
STATE: MT
NW_QUAD_CORNER_XY: 529037.11100 5094115.84700
NE_QUAD_CORNER_XY: 533876.62600 5094140.53100
SE_QUAD_CORNERY_XY: 533914.74900 5087196.39700
SW_QUAD_CORNER_XY: 529069.78700 5087171.71100
SECONDARY_NW_QUAD_XY: 529037.98700 5093897.87800
SECONDARY_NE_QUAD_XY: 533877.64800 5093922.56200
SECONDARY_SE_QUAD_XY: 533915.77100 5086978.47100
SECONDARY_SW_QUAD_XY: 529070.66300 5086953.78400
RMSE_XY: 2.46000
IMAGE_SOURCE: BLACK AND WHITE FILM
SOURCE_IMAGE_ID: NAPP 11006 21
SOURCE_IMAGE_DATE: 1998 07 21
SOURCE_IMAGE_ID: NAPP 11006 56
SOURCE_IMAGE_DATE: 1998 07 21
SOURCE_DEM_DATE: 1981 00 00
AGENCY: WESTERN MAPPING CENTER (WMC)
PRODUCER: ANALYTICAL SURVEYS INC.
PRODUCTION_SYSTEM: ORBIT OR_RECTIFY V.5.2
COMPRESSION: UNDEFINED
STANDARD_VERSION: 1996 12
METADATA_DATE: 2000 10 12
DATA_FILE_SIZE: 42357780
BYTE_COUNT: 5580
