FILENAME: O4511006.NWS.1145702.tif
QUADRANGLE_NAME: FAIRVIEW PEAK
QUADRANT: NW
WEST_LONGITUDE: -110 22 30.00000
EAST_LONGITUDE: -110 18 45.00000
NORTH_LATITUDE: 46 0 0.00000
SOUTH_LATITUDE: 45 56 15.00000
PRODUCTION_DATE: 2001 03 19
RASTER_ORDER: LEFT_RIGHT/TOP_BOTTOM
BAND_ORGANIZATION: SINGLE FILE
BAND_CONTENT: BLACK&WHITE
BAND_CONTENT: UNDEFINED
BAND_CONTENT: UNDEFINED
BITS_PER_PIXEL: 8
SAMPLES_AND_LINES: 5610 7620
HORIZONTAL_DATUM: NAD83
HORIZONTAL_COORDINATE_SYSTEM: UTM
COORDINATE_ZONE: 12
HORIZONTAL_UNITS: METERS
HORIZONTAL_RESOLUTION: 1.00000
SECONDARY_HORIZONTAL_DATUM: NAD27
XY_ORIGIN: 548010.00000 5094600.00000
SECONDARY_XY_ORIGIN: 548069.85700 5094389.39100
NATION: US
STATE: MT
NW_QUAD_CORNER_XY: 548395.16400 5094237.36900
NE_QUAD_CORNER_XY: 553234.67300 5094277.24400
SE_QUAD_CORNERY_XY: 553294.58200 5087333.11900
SW_QUAD_CORNER_XY: 548449.62700 5087293.24200
SECONDARY_NW_QUAD_XY: 548396.62400 5094019.40300
SECONDARY_NE_QUAD_XY: 553236.27900 5094059.27900
SECONDARY_SE_QUAD_XY: 553296.18800 5087115.19700
SECONDARY_SW_QUAD_XY: 548451.08600 5087075.31800
RMSE_XY: 2.49000
IMAGE_SOURCE: BLACK AND WHITE FILM
SOURCE_IMAGE_ID: NAPP 9185 243
SOURCE_IMAGE_DATE: 1998 07 20
SOURCE_IMAGE_ID: NAPP 11009 99
SOURCE_IMAGE_DATE: 1998 07 22
SOURCE_IMAGE_ID: NAPP 9185 245
SOURCE_IMAGE_DATE: 1998 07 20
SOURCE_DEM_DATE: 1951 00 00
AGENCY: WESTERN MAPPING CENTER (WMC)
PRODUCER: ANALYTICAL SURVEYS INC.
PRODUCTION_SYSTEM: ORBIT OR_RECTIFY V.5.2
COMPRESSION: UNDEFINED
STANDARD_VERSION: 1996 12
METADATA_DATE: 2001 03 23
DATA_FILE_SIZE: 42753810
BYTE_COUNT: 5610
