FILENAME: O4511009.NWS.1004270.tif
QUADRANGLE_NAME: SADDLE PEAK
QUADRANT: NW
WEST_LONGITUDE: -111 0 0.00000
EAST_LONGITUDE: -110 56 15.00000
NORTH_LATITUDE: 45 52 30.00000
SOUTH_LATITUDE: 45 48 45.00000
PRODUCTION_DATE: 1999 5 12
RASTER_ORDER: LEFT_RIGHT/TOP_BOTTOM
BAND_ORGANIZATION: SINGLE FILE
BAND_CONTENT: BLACK&WHITE
BAND_CONTENT: UNDEFINED
BAND_CONTENT: UNDEFINED
BITS_PER_PIXEL: 8
SAMPLES_AND_LINES: 5520 7556
HORIZONTAL_DATUM: NAD83
HORIZONTAL_COORDINATE_SYSTEM: UTM
COORDINATE_ZONE: 12
HORIZONTAL_UNITS: METERS
HORIZONTAL_RESOLUTION: 1.00000
SECONDARY_HORIZONTAL_DATUM: NAD27
XY_ORIGIN: 499638.00000 5080462.00000
SECONDARY_XY_ORIGIN: 499698.49200 5080251.90800
NATION: US
STATE: MT
NW_QUAD_CORNER_XY: 500000.00000 5080159.28800
NE_QUAD_CORNER_XY: 504850.40600 5080161.18700
SE_QUAD_CORNERY_XY: 504855.84000 5073217.19900
SW_QUAD_CORNER_XY: 500000.00000 5073215.30000
SECONDARY_NW_QUAD_XY: 500000.00000 5079941.40200
SECONDARY_NE_QUAD_XY: 504850.55200 5079943.30100
SECONDARY_SE_QUAD_XY: 504855.98600 5072999.35700
SECONDARY_SW_QUAD_XY: 500000.00000 5072997.45800
RMSE_XY: 4.10000
IMAGE_SOURCE: BLACK AND WHITE FILM
SOURCE_IMAGE_ID: NAPP 11009 195
SOURCE_IMAGE_DATE: 1998 7 22
SOURCE_DEM_DATE: 1999 5 12
AGENCY: WESTERN MAPPING CENTER (WMC)
PRODUCER: WESTERN MAPPING CENTER (WMC)
PRODUCTION_SYSTEM: DV2.6.3 10/9OV2.4 5/95
COMPRESSION: UNDEFINED
STANDARD_VERSION: 1996 12
METADATA_DATE: 1999 5 13
DATA_FILE_SIZE: 41714640
BYTE_COUNT: 5520
