FILENAME: O4511009.NES.1004269.tif
QUADRANGLE_NAME: SADDLE PEAK
QUADRANT: NE
WEST_LONGITUDE: -110 56 15.00000
EAST_LONGITUDE: -110 52 30.00000
NORTH_LATITUDE: 45 52 30.00000
SOUTH_LATITUDE: 45 48 45.00000
PRODUCTION_DATE: 1999 5 11
RASTER_ORDER: LEFT_RIGHT/TOP_BOTTOM
BAND_ORGANIZATION: SINGLE FILE
BAND_CONTENT: BLACK&WHITE
BAND_CONTENT: UNDEFINED
BAND_CONTENT: UNDEFINED
BITS_PER_PIXEL: 8
SAMPLES_AND_LINES: 5524 7561
HORIZONTAL_DATUM: NAD83
HORIZONTAL_COORDINATE_SYSTEM: UTM
COORDINATE_ZONE: 12
HORIZONTAL_UNITS: METERS
HORIZONTAL_RESOLUTION: 1.00000
SECONDARY_HORIZONTAL_DATUM: NAD27
XY_ORIGIN: 504489.00000 5080468.00000
SECONDARY_XY_ORIGIN: 504549.00000 5080258.00000
NATION: US
STATE: MT
NW_QUAD_CORNER_XY: 504850.40600 5080161.18700
NE_QUAD_CORNER_XY: 509700.81200 5080166.88400
SE_QUAD_CORNERY_XY: 509711.68000 5073222.89600
SW_QUAD_CORNER_XY: 504855.84000 5073217.19900
SECONDARY_NW_QUAD_XY: 504850.55200 5079943.30100
SECONDARY_NE_QUAD_XY: 509701.10300 5079948.99800
SECONDARY_SE_QUAD_XY: 509711.97200 5073005.05500
SECONDARY_SW_QUAD_XY: 504855.98600 5072999.35700
RMSE_XY: 1.80000
IMAGE_SOURCE: BLACK AND WHITE FILM
SOURCE_IMAGE_ID: NAPP 11008 032
SOURCE_IMAGE_DATE: 1998 7 21
SOURCE_DEM_DATE: 1999 5 11
AGENCY: WESTERN MAPPING CENTER (WMC)
PRODUCER: WESTERN MAPPING CENTER (WMC)
PRODUCTION_SYSTEM: DV2.6.3 10/9OV2.4 5/95
COMPRESSION: UNDEFINED
STANDARD_VERSION: 1996 12
METADATA_DATE: 1999 5 13
DATA_FILE_SIZE: 41772488
BYTE_COUNT: 5524
