FILENAME: O4511010.NWS.1004694.tif
QUADRANGLE_NAME: GRASSY MOUNTAIN
QUADRANT: NW
WEST_LONGITUDE: -110 52 30.00000
EAST_LONGITUDE: -110 48 45.00000
NORTH_LATITUDE: 45 52 30.00000
SOUTH_LATITUDE: 45 48 45.00000
PRODUCTION_DATE: 1999 5 12
RASTER_ORDER: LEFT_RIGHT/TOP_BOTTOM
BAND_ORGANIZATION: SINGLE FILE
BAND_CONTENT: BLACK&WHITE
BAND_CONTENT: UNDEFINED
BAND_CONTENT: UNDEFINED
BITS_PER_PIXEL: 8
SAMPLES_AND_LINES: 5528 7564
HORIZONTAL_DATUM: NAD83
HORIZONTAL_COORDINATE_SYSTEM: UTM
COORDINATE_ZONE: 12
HORIZONTAL_UNITS: METERS
HORIZONTAL_RESOLUTION: 1.00000
SECONDARY_HORIZONTAL_DATUM: NAD27
XY_ORIGIN: 509340.00000 5080477.00000
SECONDARY_XY_ORIGIN: 509400.39900 5080266.86500
NATION: US
STATE: MT
NW_QUAD_CORNER_XY: 509700.81200 5080166.88400
NE_QUAD_CORNER_XY: 514551.21700 5080176.37800
SE_QUAD_CORNERY_XY: 514567.52000 5073232.39200
SW_QUAD_CORNER_XY: 509711.68000 5073222.89600
SECONDARY_NW_QUAD_XY: 509701.10300 5079948.99800
SECONDARY_NE_QUAD_XY: 514551.65500 5079958.49300
SECONDARY_SE_QUAD_XY: 514567.95800 5073014.55100
SECONDARY_SW_QUAD_XY: 509711.97200 5073005.05500
RMSE_XY: 1.90000
IMAGE_SOURCE: BLACK AND WHITE FILM
SOURCE_IMAGE_ID: NAPP 11009 148
SOURCE_IMAGE_DATE: 1998 7 22
SOURCE_DEM_DATE: 1999 5 12
AGENCY: WESTERN MAPPING CENTER (WMC)
PRODUCER: WESTERN MAPPING CENTER (WMC)
PRODUCTION_SYSTEM: DV2.6.3 10/9OV2.4 5/95
COMPRESSION: UNDEFINED
STANDARD_VERSION: 1996 12
METADATA_DATE: 1999 5 24
DATA_FILE_SIZE: 41819320
BYTE_COUNT: 5528
