FILENAME: O4511016.NWS.1115274.tif
QUADRANGLE_NAME: CARNEY
QUADRANT: NW
WEST_LONGITUDE: -110 7 30.00000
EAST_LONGITUDE: -110 3 45.00000
NORTH_LATITUDE: 45 52 30.00000
SOUTH_LATITUDE: 45 48 45.00000
PRODUCTION_DATE: 2000 11 16
RASTER_ORDER: LEFT_RIGHT/TOP_BOTTOM
BAND_ORGANIZATION: SINGLE FILE
BAND_CONTENT: BLACK&WHITE
BAND_CONTENT: UNDEFINED
BAND_CONTENT: UNDEFINED
BITS_PER_PIXEL: 8
SAMPLES_AND_LINES: 5610 7620
HORIZONTAL_DATUM: NAD83
HORIZONTAL_COORDINATE_SYSTEM: UTM
COORDINATE_ZONE: 12
HORIZONTAL_UNITS: METERS
HORIZONTAL_RESOLUTION: 1.00000
SECONDARY_HORIZONTAL_DATUM: NAD27
XY_ORIGIN: 567540.00000 5080890.00000
SECONDARY_XY_ORIGIN: 567599.96400 5080679.55600
NATION: US
STATE: MT
NW_QUAD_CORNER_XY: 567905.60600 5080531.50300
NE_QUAD_CORNER_XY: 572755.99400 5080586.57800
SE_QUAD_CORNERY_XY: 572837.51800 5073642.61600
SW_QUAD_CORNER_XY: 567981.69400 5073587.53800
SECONDARY_NW_QUAD_XY: 567907.64900 5080313.62900
SECONDARY_NE_QUAD_XY: 572758.18300 5080368.70500
SECONDARY_SE_QUAD_XY: 572839.70600 5073424.78800
SECONDARY_SW_QUAD_XY: 567983.73600 5073369.70700
RMSE_XY: 1.10000
IMAGE_SOURCE: BLACK AND WHITE FILM
SOURCE_IMAGE_ID: NAPP 9172 82
SOURCE_IMAGE_DATE: 1997 08 23
SOURCE_IMAGE_ID: NAPP 9172 80
SOURCE_IMAGE_DATE: 1997 08 23
SOURCE_IMAGE_ID: NAPP 9172 7
SOURCE_IMAGE_DATE: 1997 08 23
SOURCE_IMAGE_ID: NAPP 9172 9
SOURCE_IMAGE_DATE: 1997 08 23
SOURCE_DEM_DATE: 1980 00 00
AGENCY: WESTERN MAPPING CENTER (WMC)
PRODUCER: ANALYTICAL SURVEYS INC.
PRODUCTION_SYSTEM: ORBIT OR_RECTIFY V.5.2
COMPRESSION: UNDEFINED
STANDARD_VERSION: 1996 12
METADATA_DATE: 2000 11 18
DATA_FILE_SIZE: 42753810
BYTE_COUNT: 5610
