FILENAME: O4511018.NWS.1004278.tif
QUADRANGLE_NAME: BOZEMAN PASS
QUADRANT: NW
WEST_LONGITUDE: -110 52 30.00000
EAST_LONGITUDE: -110 48 45.00000
NORTH_LATITUDE: 45 45 0.00000
SOUTH_LATITUDE: 45 41 15.00000
PRODUCTION_DATE: 1999 5 11
RASTER_ORDER: LEFT_RIGHT/TOP_BOTTOM
BAND_ORGANIZATION: SINGLE FILE
BAND_CONTENT: BLACK&WHITE
BAND_CONTENT: UNDEFINED
BAND_CONTENT: UNDEFINED
BITS_PER_PIXEL: 8
SAMPLES_AND_LINES: 5540 7564
HORIZONTAL_DATUM: NAD83
HORIZONTAL_COORDINATE_SYSTEM: UTM
COORDINATE_ZONE: 12
HORIZONTAL_UNITS: METERS
HORIZONTAL_RESOLUTION: 1.00000
SECONDARY_HORIZONTAL_DATUM: NAD27
XY_ORIGIN: 509361.00000 5066589.00000
SECONDARY_XY_ORIGIN: 509421.59400 5066378.90300
NATION: US
STATE: MT
NW_QUAD_CORNER_XY: 509722.53800 5066278.98500
NE_QUAD_CORNER_XY: 514583.80600 5066288.48100
SE_QUAD_CORNERY_XY: 514600.07500 5059344.64700
SW_QUAD_CORNER_XY: 509733.38300 5059335.15000
SECONDARY_NW_QUAD_XY: 509722.82900 5066061.18900
SECONDARY_NE_QUAD_XY: 514584.24400 5066070.68500
SECONDARY_SE_QUAD_XY: 514600.51200 5059126.89600
SECONDARY_SW_QUAD_XY: 509733.67500 5059117.39900
RMSE_XY: 1.50000
IMAGE_SOURCE: BLACK AND WHITE FILM
SOURCE_IMAGE_ID: NAPP 11009 144
SOURCE_IMAGE_DATE: 1998 7 22
SOURCE_DEM_DATE: 1999 5 11
AGENCY: WESTERN MAPPING CENTER (WMC)
PRODUCER: WESTERN MAPPING CENTER (WMC)
PRODUCTION_SYSTEM: DV2.6.3 10/9OV2.4 5/95
COMPRESSION: UNDEFINED
STANDARD_VERSION: 1996 12
METADATA_DATE: 1999 5 13
DATA_FILE_SIZE: 41910100
BYTE_COUNT: 5540
