FILENAME: O4511020.SWS.1114184.tif
QUADRANGLE_NAME: LIVINGSTON
QUADRANT: SW
WEST_LONGITUDE: -110 37 30.00000
EAST_LONGITUDE: -110 33 45.00000
NORTH_LATITUDE: 45 41 15.00000
SOUTH_LATITUDE: 45 37 30.00000
PRODUCTION_DATE: 2000 10 13
RASTER_ORDER: LEFT_RIGHT/TOP_BOTTOM
BAND_ORGANIZATION: SINGLE FILE
BAND_CONTENT: BLACK&WHITE
BAND_CONTENT: UNDEFINED
BAND_CONTENT: UNDEFINED
BITS_PER_PIXEL: 8
SAMPLES_AND_LINES: 5580 7620
HORIZONTAL_DATUM: NAD83
HORIZONTAL_COORDINATE_SYSTEM: UTM
COORDINATE_ZONE: 12
HORIZONTAL_UNITS: METERS
HORIZONTAL_RESOLUTION: 1.00000
SECONDARY_HORIZONTAL_DATUM: NAD27
XY_ORIGIN: 528840.00000 5059740.00000
SECONDARY_XY_ORIGIN: 528900.42000 5059529.81700
NATION: US
STATE: MT
NW_QUAD_CORNER_XY: 529200.14600 5059395.92800
NE_QUAD_CORNER_XY: 534066.83500 5059420.61900
SE_QUAD_CORNERY_XY: 534104.75400 5052476.86500
SW_QUAD_CORNER_XY: 529232.64800 5052452.17200
SECONDARY_NW_QUAD_XY: 529201.02000 5059178.17900
SECONDARY_NE_QUAD_XY: 534067.85500 5059202.87100
SECONDARY_SE_QUAD_XY: 534105.77400 5052259.16300
SECONDARY_SW_QUAD_XY: 529233.52200 5052234.47000
RMSE_XY: 2.12000
IMAGE_SOURCE: BLACK AND WHITE FILM
SOURCE_IMAGE_ID: NAPP 11006 31
SOURCE_IMAGE_DATE: 1998 07 21
SOURCE_DEM_DATE: 1993 00 00
AGENCY: WESTERN MAPPING CENTER (WMC)
PRODUCER: ANALYTICAL SURVEYS INC.
PRODUCTION_SYSTEM: ORBIT OR_RECTIFY V.5.2
COMPRESSION: UNDEFINED
STANDARD_VERSION: 1996 12
METADATA_DATE: 2000 10 17
DATA_FILE_SIZE: 42525180
BYTE_COUNT: 5580
