FILENAME: O4511021.SWS.1114152.tif
QUADRANGLE_NAME: MISSION
QUADRANT: SW
WEST_LONGITUDE: -110 30 0.00000
EAST_LONGITUDE: -110 26 15.00000
NORTH_LATITUDE: 45 41 15.00000
SOUTH_LATITUDE: 45 37 30.00000
PRODUCTION_DATE: 2000 11 01
RASTER_ORDER: LEFT_RIGHT/TOP_BOTTOM
BAND_ORGANIZATION: SINGLE FILE
BAND_CONTENT: BLACK&WHITE
BAND_CONTENT: UNDEFINED
BAND_CONTENT: UNDEFINED
BITS_PER_PIXEL: 8
SAMPLES_AND_LINES: 5610 7620
HORIZONTAL_DATUM: NAD83
HORIZONTAL_COORDINATE_SYSTEM: UTM
COORDINATE_ZONE: 12
HORIZONTAL_UNITS: METERS
HORIZONTAL_RESOLUTION: 1.00000
SECONDARY_HORIZONTAL_DATUM: NAD27
XY_ORIGIN: 538560.00000 5059800.00000
SECONDARY_XY_ORIGIN: 538620.22800 5059589.74500
NATION: US
STATE: MT
NW_QUAD_CORNER_XY: 538933.52300 5059449.11000
NE_QUAD_CORNER_XY: 543800.21000 5059481.39900
SE_QUAD_CORNERY_XY: 543848.96400 5052537.64700
SW_QUAD_CORNER_XY: 538976.85900 5052505.35600
SECONDARY_NW_QUAD_XY: 538934.68900 5059231.36300
SECONDARY_NE_QUAD_XY: 543801.52200 5059263.65300
SECONDARY_SE_QUAD_XY: 543850.27600 5052319.94700
SECONDARY_SW_QUAD_XY: 538978.02500 5052287.65600
RMSE_XY: 2.49000
IMAGE_SOURCE: BLACK AND WHITE FILM
SOURCE_IMAGE_ID: NAPP 12009 46
SOURCE_IMAGE_DATE: 1999 08 17
SOURCE_IMAGE_ID: NAPP 9167 10
SOURCE_IMAGE_DATE: 1996 08 26
SOURCE_DEM_DATE: 1993 00 00
AGENCY: WESTERN MAPPING CENTER (WMC)
PRODUCER: ANALYTICAL SURVEYS INC.
PRODUCTION_SYSTEM: ORBIT OR_RECTIFY V.5.2
COMPRESSION: UNDEFINED
STANDARD_VERSION: 1996 12
METADATA_DATE: 2000 11 02
DATA_FILE_SIZE: 42753810
BYTE_COUNT: 5610
