FILENAME: O4511022.NES.1112053.tif
QUADRANGLE_NAME: ELTON
QUADRANT: NE
WEST_LONGITUDE: -110 18 45.00000
EAST_LONGITUDE: -110 15 0.00000
NORTH_LATITUDE: 45 45 0.00000
SOUTH_LATITUDE: 45 41 15.00000
PRODUCTION_DATE: 2000 10 29
RASTER_ORDER: LEFT_RIGHT/TOP_BOTTOM
BAND_ORGANIZATION: SINGLE FILE
BAND_CONTENT: BLACK&WHITE
BAND_CONTENT: UNDEFINED
BAND_CONTENT: UNDEFINED
BITS_PER_PIXEL: 8
SAMPLES_AND_LINES: 5610 7620
HORIZONTAL_DATUM: NAD83
HORIZONTAL_COORDINATE_SYSTEM: UTM
COORDINATE_ZONE: 12
HORIZONTAL_UNITS: METERS
HORIZONTAL_RESOLUTION: 1.00000
SECONDARY_HORIZONTAL_DATUM: NAD27
XY_ORIGIN: 553110.00000 5066850.00000
SECONDARY_XY_ORIGIN: 553170.10800 5066639.97300
NATION: US
STATE: MT
NW_QUAD_CORNER_XY: 553473.92700 5066501.19800
NE_QUAD_CORNER_XY: 558335.18600 5066544.88200
SE_QUAD_CORNERY_XY: 558400.26300 5059601.06000
SW_QUAD_CORNER_XY: 553533.58000 5059557.37400
SECONDARY_NW_QUAD_XY: 553475.53100 5066283.40800
SECONDARY_NE_QUAD_XY: 558336.93600 5066327.09300
SECONDARY_SE_QUAD_XY: 558402.01300 5059383.31800
SECONDARY_SW_QUAD_XY: 553535.18400 5059339.63000
RMSE_XY: 2.19000
IMAGE_SOURCE: BLACK AND WHITE FILM
SOURCE_IMAGE_ID: NAPP 9172 200
SOURCE_IMAGE_DATE: 1997 08 23
SOURCE_IMAGE_ID: NAPP 9185 251
SOURCE_IMAGE_DATE: 1998 07 20
SOURCE_IMAGE_ID: NAPP 9172 198
SOURCE_IMAGE_DATE: 1997 08 23
SOURCE_DEM_DATE: 1981 00 00
AGENCY: WESTERN MAPPING CENTER (WMC)
PRODUCER: ANALYTICAL SURVEYS INC.
PRODUCTION_SYSTEM: ORBIT OR_RECTIFY V.5.2
COMPRESSION: UNDEFINED
STANDARD_VERSION: 1996 12
METADATA_DATE: 2000 11 09
DATA_FILE_SIZE: 42753810
BYTE_COUNT: 5610
