FILENAME: O4511024.SES.1145735.tif
QUADRANGLE_NAME: MCLEOD
QUADRANT: SE
WEST_LONGITUDE: -110 3 45.00000
EAST_LONGITUDE: -110 0 0.00000
NORTH_LATITUDE: 45 41 15.00000
SOUTH_LATITUDE: 45 37 30.00000
PRODUCTION_DATE: 2001 03 28
RASTER_ORDER: LEFT_RIGHT/TOP_BOTTOM
BAND_ORGANIZATION: SINGLE FILE
BAND_CONTENT: BLACK&WHITE
BAND_CONTENT: UNDEFINED
BAND_CONTENT: UNDEFINED
BITS_PER_PIXEL: 8
SAMPLES_AND_LINES: 5640 7650
HORIZONTAL_DATUM: NAD83
HORIZONTAL_COORDINATE_SYSTEM: UTM
COORDINATE_ZONE: 12
HORIZONTAL_UNITS: METERS
HORIZONTAL_RESOLUTION: 1.00000
SECONDARY_HORIZONTAL_DATUM: NAD27
XY_ORIGIN: 572640.00000 5060130.00000
SECONDARY_XY_ORIGIN: 572700.02300 5059920.01700
NATION: US
STATE: MT
NW_QUAD_CORNER_XY: 573000.30200 5059754.91500
NE_QUAD_CORNER_XY: 577866.97900 5059813.79900
SE_QUAD_CORNERY_XY: 577953.65800 5052870.06300
SW_QUAD_CORNER_XY: 573081.56400 5052811.17600
SECONDARY_NW_QUAD_XY: 573002.49000 5059537.17700
SECONDARY_NE_QUAD_XY: 577869.31200 5059596.06300
SECONDARY_SE_QUAD_XY: 577955.99100 5052652.37300
SECONDARY_SW_QUAD_XY: 573083.75100 5052593.48500
RMSE_XY: 3.25000
IMAGE_SOURCE: BLACK AND WHITE FILM
SOURCE_IMAGE_ID: NAPP 9185 29
SOURCE_IMAGE_DATE: 1998 07 20
SOURCE_DEM_DATE: 1993 00 00
AGENCY: WESTERN MAPPING CENTER (WMC)
PRODUCER: ANALYTICAL SURVEYS INC.
PRODUCTION_SYSTEM: ORBIT OR_RECTIFY V.5.2
COMPRESSION: UNDEFINED
STANDARD_VERSION: 1996 12
METADATA_DATE: 2001 03 29
DATA_FILE_SIZE: 43151640
BYTE_COUNT: 5640
