FILENAME: O4511024.NWS.1145734.tif
QUADRANGLE_NAME: MCLEOD
QUADRANT: NW
WEST_LONGITUDE: -110 7 30.00000
EAST_LONGITUDE: -110 3 45.00000
NORTH_LATITUDE: 45 45 0.00000
SOUTH_LATITUDE: 45 41 15.00000
PRODUCTION_DATE: 2001 03 28
RASTER_ORDER: LEFT_RIGHT/TOP_BOTTOM
BAND_ORGANIZATION: SINGLE FILE
BAND_CONTENT: BLACK&WHITE
BAND_CONTENT: UNDEFINED
BAND_CONTENT: UNDEFINED
BITS_PER_PIXEL: 8
SAMPLES_AND_LINES: 5640 7620
HORIZONTAL_DATUM: NAD83
HORIZONTAL_COORDINATE_SYSTEM: UTM
COORDINATE_ZONE: 12
HORIZONTAL_UNITS: METERS
HORIZONTAL_RESOLUTION: 1.00000
SECONDARY_HORIZONTAL_DATUM: NAD27
XY_ORIGIN: 567690.00000 5067000.00000
SECONDARY_XY_ORIGIN: 567750.05300 5066790.02400
NATION: US
STATE: MT
NW_QUAD_CORNER_XY: 568057.70000 5066643.64700
NE_QUAD_CORNER_XY: 572918.95400 5066698.72900
SE_QUAD_CORNERY_XY: 573000.30200 5059754.91500
SW_QUAD_CORNER_XY: 568133.62400 5059699.83100
SECONDARY_NW_QUAD_XY: 568059.74200 5066425.86200
SECONDARY_NE_QUAD_XY: 572921.14200 5066480.94500
SECONDARY_SE_QUAD_XY: 573002.49000 5059537.17700
SECONDARY_SW_QUAD_XY: 568135.66600 5059482.09100
RMSE_XY: 1.99000
IMAGE_SOURCE: BLACK AND WHITE FILM
SOURCE_IMAGE_ID: NAPP 9172 86
SOURCE_IMAGE_DATE: 1997 08 23
SOURCE_IMAGE_ID: NAPP 9185 31
SOURCE_IMAGE_DATE: 1998 07 20
SOURCE_DEM_DATE: 1993 00 00
AGENCY: WESTERN MAPPING CENTER (WMC)
PRODUCER: ANALYTICAL SURVEYS INC.
PRODUCTION_SYSTEM: ORBIT OR_RECTIFY V.5.2
COMPRESSION: UNDEFINED
STANDARD_VERSION: 1996 12
METADATA_DATE: 2001 03 29
DATA_FILE_SIZE: 42982440
BYTE_COUNT: 5640
