FILENAME: O4511026.SWS.1004262.tif
QUADRANGLE_NAME: BALD KNOB
QUADRANT: SW
WEST_LONGITUDE: -110 52 30.00000
EAST_LONGITUDE: -110 48 45.00000
NORTH_LATITUDE: 45 33 45.00000
SOUTH_LATITUDE: 45 30 0.00000
PRODUCTION_DATE: 1999 5 11
RASTER_ORDER: LEFT_RIGHT/TOP_BOTTOM
BAND_ORGANIZATION: SINGLE FILE
BAND_CONTENT: BLACK&WHITE
BAND_CONTENT: UNDEFINED
BAND_CONTENT: UNDEFINED
BITS_PER_PIXEL: 8
SAMPLES_AND_LINES: 5556 7563
HORIZONTAL_DATUM: NAD83
HORIZONTAL_COORDINATE_SYSTEM: UTM
COORDINATE_ZONE: 12
HORIZONTAL_UNITS: METERS
HORIZONTAL_RESOLUTION: 1.00000
SECONDARY_HORIZONTAL_DATUM: NAD27
XY_ORIGIN: 509394.00000 5045758.00000
SECONDARY_XY_ORIGIN: 509454.70800 5045547.93500
NATION: US
STATE: MT
NW_QUAD_CORNER_XY: 509755.03900 5045447.70900
NE_QUAD_CORNER_XY: 514632.55900 5045457.20600
SE_QUAD_CORNERY_XY: 514648.77500 5038513.60100
SW_QUAD_CORNER_XY: 509765.85000 5038504.10300
SECONDARY_NW_QUAD_XY: 509755.33100 5045230.05300
SECONDARY_NE_QUAD_XY: 514632.99600 5045239.55000
SECONDARY_SE_QUAD_XY: 514649.21200 5038295.99300
SECONDARY_SW_QUAD_XY: 509766.14100 5038286.49500
RMSE_XY: 1.50000
IMAGE_SOURCE: BLACK AND WHITE FILM
SOURCE_IMAGE_ID: NAPP 11009 138
SOURCE_IMAGE_DATE: 1998 7 22
SOURCE_DEM_DATE: 1999 5 11
AGENCY: WESTERN MAPPING CENTER (WMC)
PRODUCER: WESTERN MAPPING CENTER (WMC)
PRODUCTION_SYSTEM: DV2.6.3 10/9OV2.4 5/95
COMPRESSION: UNDEFINED
STANDARD_VERSION: 1996 12
METADATA_DATE: 1999 5 13
DATA_FILE_SIZE: 42025584
BYTE_COUNT: 5556
