FILENAME: O4511026.SES.1004261.tif
QUADRANGLE_NAME: BALD KNOB
QUADRANT: SE
WEST_LONGITUDE: -110 48 45.00000
EAST_LONGITUDE: -110 45 0.00000
NORTH_LATITUDE: 45 33 45.00000
SOUTH_LATITUDE: 45 30 0.00000
PRODUCTION_DATE: 1999 5 11
RASTER_ORDER: LEFT_RIGHT/TOP_BOTTOM
BAND_ORGANIZATION: SINGLE FILE
BAND_CONTENT: BLACK&WHITE
BAND_CONTENT: UNDEFINED
BAND_CONTENT: UNDEFINED
BITS_PER_PIXEL: 8
SAMPLES_AND_LINES: 5560 7568
HORIZONTAL_DATUM: NAD83
HORIZONTAL_COORDINATE_SYSTEM: UTM
COORDINATE_ZONE: 12
HORIZONTAL_UNITS: METERS
HORIZONTAL_RESOLUTION: 1.00000
SECONDARY_HORIZONTAL_DATUM: NAD27
XY_ORIGIN: 514271.00000 5045772.00000
SECONDARY_XY_ORIGIN: 514331.69300 5045561.88600
NATION: US
STATE: MT
NW_QUAD_CORNER_XY: 514632.55900 5045457.20600
NE_QUAD_CORNER_XY: 519510.07800 5045470.50300
SE_QUAD_CORNERY_XY: 519531.69900 5038526.89700
SW_QUAD_CORNER_XY: 514648.77500 5038513.60100
SECONDARY_NW_QUAD_XY: 514632.99600 5045239.55000
SECONDARY_NE_QUAD_XY: 519510.66100 5045252.84700
SECONDARY_SE_QUAD_XY: 519532.28200 5038309.29000
SECONDARY_SW_QUAD_XY: 514649.21200 5038295.99300
RMSE_XY: 2.40000
IMAGE_SOURCE: BLACK AND WHITE FILM
SOURCE_IMAGE_ID: NAPP 9183 153
SOURCE_IMAGE_DATE: 1997 9 9
SOURCE_DEM_DATE: 1999 5 11
AGENCY: WESTERN MAPPING CENTER (WMC)
PRODUCER: WESTERN MAPPING CENTER (WMC)
PRODUCTION_SYSTEM: DV2.6.3 10/9OV2.4 5/95
COMPRESSION: UNDEFINED
STANDARD_VERSION: 1996 12
METADATA_DATE: 1999 5 13
DATA_FILE_SIZE: 42083640
BYTE_COUNT: 5560
