FILENAME: O4511028.SES.1114247.tif
QUADRANGLE_NAME: BRISBIN
QUADRANT: SE
WEST_LONGITUDE: -110 33 45.00000
EAST_LONGITUDE: -110 30 0.00000
NORTH_LATITUDE: 45 33 45.00000
SOUTH_LATITUDE: 45 30 0.00000
PRODUCTION_DATE: 2000 10 16
RASTER_ORDER: LEFT_RIGHT/TOP_BOTTOM
BAND_ORGANIZATION: SINGLE FILE
BAND_CONTENT: BLACK&WHITE
BAND_CONTENT: UNDEFINED
BAND_CONTENT: UNDEFINED
BITS_PER_PIXEL: 8
SAMPLES_AND_LINES: 5610 7620
HORIZONTAL_DATUM: NAD83
HORIZONTAL_COORDINATE_SYSTEM: UTM
COORDINATE_ZONE: 12
HORIZONTAL_UNITS: METERS
HORIZONTAL_RESOLUTION: 1.00000
SECONDARY_HORIZONTAL_DATUM: NAD27
XY_ORIGIN: 533760.00000 5045880.00000
SECONDARY_XY_ORIGIN: 533820.39400 5045669.75900
NATION: US
STATE: MT
NW_QUAD_CORNER_XY: 534142.63200 5045533.18600
NE_QUAD_CORNER_XY: 539020.14900 5045561.67900
SE_QUAD_CORNERY_XY: 539063.39200 5038618.07700
SW_QUAD_CORNER_XY: 534180.47000 5038589.58300
SECONDARY_NW_QUAD_XY: 534143.65300 5045315.53200
SECONDARY_NE_QUAD_XY: 539021.31500 5045344.02600
SECONDARY_SE_QUAD_XY: 539064.55800 5038400.47200
SECONDARY_SW_QUAD_XY: 534181.49000 5038371.97700
RMSE_XY: 2.58000
IMAGE_SOURCE: BLACK AND WHITE FILM
SOURCE_IMAGE_ID: NAPP 11017 68
SOURCE_IMAGE_DATE: 1998 08 27
SOURCE_DEM_DATE: 1981 00 00
AGENCY: WESTERN MAPPING CENTER (WMC)
PRODUCER: ANALYTICAL SURVEYS INC.
PRODUCTION_SYSTEM: ORBIT OR_RECTIFY V.5.2
COMPRESSION: UNDEFINED
STANDARD_VERSION: 1996 12
METADATA_DATE: 2000 10 19
DATA_FILE_SIZE: 42753810
BYTE_COUNT: 5610
