FILENAME: O4511028.NWS.1114246.tif
QUADRANGLE_NAME: BRISBIN
QUADRANT: NW
WEST_LONGITUDE: -110 37 30.00000
EAST_LONGITUDE: -110 33 45.00000
NORTH_LATITUDE: 45 37 30.00000
SOUTH_LATITUDE: 45 33 45.00000
PRODUCTION_DATE: 2000 10 16
RASTER_ORDER: LEFT_RIGHT/TOP_BOTTOM
BAND_ORGANIZATION: SINGLE FILE
BAND_CONTENT: BLACK&WHITE
BAND_CONTENT: UNDEFINED
BAND_CONTENT: UNDEFINED
BITS_PER_PIXEL: 8
SAMPLES_AND_LINES: 5580 7590
HORIZONTAL_DATUM: NAD83
HORIZONTAL_COORDINATE_SYSTEM: UTM
COORDINATE_ZONE: 12
HORIZONTAL_UNITS: METERS
HORIZONTAL_RESOLUTION: 1.00000
SECONDARY_HORIZONTAL_DATUM: NAD27
XY_ORIGIN: 528870.00000 5052780.00000
SECONDARY_XY_ORIGIN: 528930.45500 5052569.80000
NATION: US
STATE: MT
NW_QUAD_CORNER_XY: 529232.64800 5052452.17200
NE_QUAD_CORNER_XY: 534104.75400 5052476.86500
SE_QUAD_CORNERY_XY: 534142.63200 5045533.18600
SW_QUAD_CORNER_XY: 529265.11500 5045508.49200
SECONDARY_NW_QUAD_XY: 529233.52200 5052234.47000
SECONDARY_NE_QUAD_XY: 534105.77400 5052259.16300
SECONDARY_SE_QUAD_XY: 534143.65300 5045315.53200
SECONDARY_SW_QUAD_XY: 529265.98900 5045290.83800
RMSE_XY: 1.61000
IMAGE_SOURCE: BLACK AND WHITE FILM
SOURCE_IMAGE_ID: NAPP 9182 70
SOURCE_IMAGE_DATE: 1997 09 09
SOURCE_IMAGE_ID: NAPP 11006 31
SOURCE_IMAGE_DATE: 1998 07 21
SOURCE_DEM_DATE: 1981 00 00
AGENCY: WESTERN MAPPING CENTER (WMC)
PRODUCER: ANALYTICAL SURVEYS INC.
PRODUCTION_SYSTEM: ORBIT OR_RECTIFY V.5.2
COMPRESSION: UNDEFINED
STANDARD_VERSION: 1996 12
METADATA_DATE: 2000 10 19
DATA_FILE_SIZE: 42357780
BYTE_COUNT: 5580
