FILENAME: O4511029.SWS.1114252.tif
QUADRANGLE_NAME: LIVINGSTON PEAK
QUADRANT: SW
WEST_LONGITUDE: -110 30 0.00000
EAST_LONGITUDE: -110 26 15.00000
NORTH_LATITUDE: 45 33 45.00000
SOUTH_LATITUDE: 45 30 0.00000
PRODUCTION_DATE: 2000 10 16
RASTER_ORDER: LEFT_RIGHT/TOP_BOTTOM
BAND_ORGANIZATION: SINGLE FILE
BAND_CONTENT: BLACK&WHITE
BAND_CONTENT: UNDEFINED
BAND_CONTENT: UNDEFINED
BITS_PER_PIXEL: 8
SAMPLES_AND_LINES: 5610 7620
HORIZONTAL_DATUM: NAD83
HORIZONTAL_COORDINATE_SYSTEM: UTM
COORDINATE_ZONE: 12
HORIZONTAL_UNITS: METERS
HORIZONTAL_RESOLUTION: 1.00000
SECONDARY_HORIZONTAL_DATUM: NAD27
XY_ORIGIN: 538650.00000 5045910.00000
SECONDARY_XY_ORIGIN: 538710.29900 5045699.73100
NATION: US
STATE: MT
NW_QUAD_CORNER_XY: 539020.14900 5045561.67900
NE_QUAD_CORNER_XY: 543897.66500 5045593.97100
SE_QUAD_CORNERY_XY: 543946.31400 5038650.37000
SW_QUAD_CORNER_XY: 539063.39200 5038618.07700
SECONDARY_NW_QUAD_XY: 539021.31500 5045344.02600
SECONDARY_NE_QUAD_XY: 543898.97700 5045376.31900
SECONDARY_SE_QUAD_XY: 543947.62500 5038432.76600
SECONDARY_SW_QUAD_XY: 539064.55800 5038400.47200
RMSE_XY: 4.84000
IMAGE_SOURCE: BLACK AND WHITE FILM
SOURCE_IMAGE_ID: NAPP 11017 25
SOURCE_IMAGE_DATE: 1998 08 27
SOURCE_IMAGE_ID: NAPP 12009 34
SOURCE_IMAGE_DATE: 1999 08 17
SOURCE_IMAGE_ID: NAPP 11017 27
SOURCE_IMAGE_DATE: 1998 08 27
SOURCE_DEM_DATE: 1951 00 00
AGENCY: WESTERN MAPPING CENTER (WMC)
PRODUCER: ANALYTICAL SURVEYS INC.
PRODUCTION_SYSTEM: ORBIT OR_RECTIFY V.5.2
COMPRESSION: UNDEFINED
STANDARD_VERSION: 1996 12
METADATA_DATE: 2000 11 20
DATA_FILE_SIZE: 42753810
BYTE_COUNT: 5610
