FILENAME: O4511030.SWS.1118710.tif
QUADRANGLE_NAME: MOUNT RAE
QUADRANT: SW
WEST_LONGITUDE: -110 22 30.00000
EAST_LONGITUDE: -110 18 45.00000
NORTH_LATITUDE: 45 33 45.00000
SOUTH_LATITUDE: 45 30 0.00000
PRODUCTION_DATE: 2000 11 02
RASTER_ORDER: LEFT_RIGHT/TOP_BOTTOM
BAND_ORGANIZATION: SINGLE FILE
BAND_CONTENT: BLACK&WHITE
BAND_CONTENT: UNDEFINED
BAND_CONTENT: UNDEFINED
BITS_PER_PIXEL: 8
SAMPLES_AND_LINES: 5640 7620
HORIZONTAL_DATUM: NAD83
HORIZONTAL_COORDINATE_SYSTEM: UTM
COORDINATE_ZONE: 12
HORIZONTAL_UNITS: METERS
HORIZONTAL_RESOLUTION: 1.00000
SECONDARY_HORIZONTAL_DATUM: NAD27
XY_ORIGIN: 548400.00000 5045970.00000
SECONDARY_XY_ORIGIN: 548460.16100 5045759.84800
NATION: US
STATE: MT
NW_QUAD_CORNER_XY: 548775.18000 5045630.06200
NE_QUAD_CORNER_XY: 553652.69400 5045669.95300
SE_QUAD_CORNERY_XY: 553712.15500 5038726.35500
SW_QUAD_CORNER_XY: 548829.23500 5038686.46200
SECONDARY_NW_QUAD_XY: 548776.63800 5045412.41100
SECONDARY_NE_QUAD_XY: 553654.29700 5045452.30300
SECONDARY_SE_QUAD_XY: 553713.75800 5038508.75300
SECONDARY_SW_QUAD_XY: 548830.69200 5038468.86000
RMSE_XY: 2.30000
IMAGE_SOURCE: BLACK AND WHITE FILM
SOURCE_IMAGE_ID: NAPP 9185 257
SOURCE_IMAGE_DATE: 1998 07 20
SOURCE_DEM_DATE: 1992 00 00
AGENCY: WESTERN MAPPING CENTER (WMC)
PRODUCER: ANALYTICAL SURVEYS INC.
PRODUCTION_SYSTEM: ORBIT OR_RECTIFY V.5.2
COMPRESSION: UNDEFINED
STANDARD_VERSION: 1996 12
METADATA_DATE: 2000 11 09
DATA_FILE_SIZE: 42982440
BYTE_COUNT: 5640
