FILENAME: O4511030.SES.1118709.tif
QUADRANGLE_NAME: MOUNT RAE
QUADRANT: SE
WEST_LONGITUDE: -110 18 45.00000
EAST_LONGITUDE: -110 15 0.00000
NORTH_LATITUDE: 45 33 45.00000
SOUTH_LATITUDE: 45 30 0.00000
PRODUCTION_DATE: 2000 11 02
RASTER_ORDER: LEFT_RIGHT/TOP_BOTTOM
BAND_ORGANIZATION: SINGLE FILE
BAND_CONTENT: BLACK&WHITE
BAND_CONTENT: UNDEFINED
BAND_CONTENT: UNDEFINED
BITS_PER_PIXEL: 8
SAMPLES_AND_LINES: 5610 7620
HORIZONTAL_DATUM: NAD83
HORIZONTAL_COORDINATE_SYSTEM: UTM
COORDINATE_ZONE: 12
HORIZONTAL_UNITS: METERS
HORIZONTAL_RESOLUTION: 1.00000
SECONDARY_HORIZONTAL_DATUM: NAD27
XY_ORIGIN: 553290.00000 5046030.00000
SECONDARY_XY_ORIGIN: 553350.09200 5045819.90700
NATION: US
STATE: MT
NW_QUAD_CORNER_XY: 553652.69400 5045669.95300
NE_QUAD_CORNER_XY: 558530.20700 5045713.64300
SE_QUAD_CORNERY_XY: 558595.07400 5038770.04600
SW_QUAD_CORNER_XY: 553712.15500 5038726.35500
SECONDARY_NW_QUAD_XY: 553654.29700 5045452.30300
SECONDARY_NE_QUAD_XY: 558531.95600 5045495.99400
SECONDARY_SE_QUAD_XY: 558596.82200 5038552.44600
SECONDARY_SW_QUAD_XY: 553713.75800 5038508.75300
RMSE_XY: 2.02000
IMAGE_SOURCE: BLACK AND WHITE FILM
SOURCE_IMAGE_ID: NAPP 9185 136
SOURCE_IMAGE_DATE: 1998 07 20
SOURCE_DEM_DATE: 1992 00 00
AGENCY: WESTERN MAPPING CENTER (WMC)
PRODUCER: ANALYTICAL SURVEYS INC.
PRODUCTION_SYSTEM: ORBIT OR_RECTIFY V.5.2
COMPRESSION: UNDEFINED
STANDARD_VERSION: 1996 12
METADATA_DATE: 2000 11 09
DATA_FILE_SIZE: 42753810
BYTE_COUNT: 5610
