FILENAME: O4511032.SWS.1145780.tif
QUADRANGLE_NAME: ENOS MOUNTAIN
QUADRANT: SW
WEST_LONGITUDE: -110 7 30.00000
EAST_LONGITUDE: -110 3 45.00000
NORTH_LATITUDE: 45 33 45.00000
SOUTH_LATITUDE: 45 30 0.00000
PRODUCTION_DATE: 2001 03 29
RASTER_ORDER: LEFT_RIGHT/TOP_BOTTOM
BAND_ORGANIZATION: SINGLE FILE
BAND_CONTENT: BLACK&WHITE
BAND_CONTENT: UNDEFINED
BAND_CONTENT: UNDEFINED
BITS_PER_PIXEL: 8
SAMPLES_AND_LINES: 5670 7620
HORIZONTAL_DATUM: NAD83
HORIZONTAL_COORDINATE_SYSTEM: UTM
COORDINATE_ZONE: 12
HORIZONTAL_UNITS: METERS
HORIZONTAL_RESOLUTION: 1.00000
SECONDARY_HORIZONTAL_DATUM: NAD27
XY_ORIGIN: 567900.00000 5046180.00000
SECONDARY_XY_ORIGIN: 567959.99400 5045970.00700
NATION: US
STATE: MT
NW_QUAD_CORNER_XY: 568285.22900 5045812.42200
NE_QUAD_CORNER_XY: 573162.73700 5045867.51100
SE_QUAD_CORNERY_XY: 573243.82400 5038923.92100
SW_QUAD_CORNER_XY: 568360.90800 5038868.82900
SECONDARY_NW_QUAD_XY: 568287.26900 5045594.77600
SECONDARY_NE_QUAD_XY: 573164.92400 5045649.86700
SECONDARY_SE_QUAD_XY: 573246.00900 5038706.32500
SECONDARY_SW_QUAD_XY: 568362.94800 5038651.23200
RMSE_XY: 3.70000
IMAGE_SOURCE: BLACK AND WHITE FILM
SOURCE_IMAGE_ID: NAPP 9172 92
SOURCE_IMAGE_DATE: 1997 08 23
SOURCE_DEM_DATE: 1993 00 00
AGENCY: WESTERN MAPPING CENTER (WMC)
PRODUCER: ANALYTICAL SURVEYS INC.
PRODUCTION_SYSTEM: ORBIT OR_RECTIFY V.5.2
COMPRESSION: UNDEFINED
STANDARD_VERSION: 1996 12
METADATA_DATE: 2001 06 19
DATA_FILE_SIZE: 43211070
BYTE_COUNT: 5670
