FILENAME: O4511032.NES.1145776.tif
QUADRANGLE_NAME: ENOS MOUNTAIN
QUADRANT: NE
WEST_LONGITUDE: -110 3 45.00000
EAST_LONGITUDE: -110 0 0.00000
NORTH_LATITUDE: 45 37 30.00000
SOUTH_LATITUDE: 45 33 45.00000
PRODUCTION_DATE: 2001 03 29
RASTER_ORDER: LEFT_RIGHT/TOP_BOTTOM
BAND_ORGANIZATION: SINGLE FILE
BAND_CONTENT: BLACK&WHITE
BAND_CONTENT: UNDEFINED
BAND_CONTENT: UNDEFINED
BITS_PER_PIXEL: 8
SAMPLES_AND_LINES: 5670 7650
HORIZONTAL_DATUM: NAD83
HORIZONTAL_COORDINATE_SYSTEM: UTM
COORDINATE_ZONE: 12
HORIZONTAL_UNITS: METERS
HORIZONTAL_RESOLUTION: 1.00000
SECONDARY_HORIZONTAL_DATUM: NAD27
XY_ORIGIN: 572700.00000 5053200.00000
SECONDARY_XY_ORIGIN: 572760.00300 5052990.02300
NATION: US
STATE: MT
NW_QUAD_CORNER_XY: 573081.56400 5052811.17600
NE_QUAD_CORNER_XY: 577953.65800 5052870.06300
SE_QUAD_CORNERY_XY: 578040.24500 5045926.40000
SW_QUAD_CORNER_XY: 573162.73700 5045867.51100
SECONDARY_NW_QUAD_XY: 573083.75100 5052593.48500
SECONDARY_NE_QUAD_XY: 577955.99100 5052652.37300
SECONDARY_SE_QUAD_XY: 578042.57700 5045708.75800
SECONDARY_SW_QUAD_XY: 573164.92400 5045649.86700
RMSE_XY: 4.55000
IMAGE_SOURCE: BLACK AND WHITE FILM
SOURCE_IMAGE_ID: NAPP 9185 27
SOURCE_IMAGE_DATE: 1998 07 20
SOURCE_IMAGE_ID: NAPP 9185 29
SOURCE_IMAGE_DATE: 1998 07 20
SOURCE_IMAGE_ID: NAPP 9185 25
SOURCE_IMAGE_DATE: 1998 07 20
SOURCE_DEM_DATE: 1993 00 00
AGENCY: WESTERN MAPPING CENTER (WMC)
PRODUCER: ANALYTICAL SURVEYS INC.
PRODUCTION_SYSTEM: ORBIT OR_RECTIFY V.5.2
COMPRESSION: UNDEFINED
STANDARD_VERSION: 1996 12
METADATA_DATE: 2001 06 19
DATA_FILE_SIZE: 43381170
BYTE_COUNT: 5670
