FILENAME: O4511033.SWS.1004266.tif
QUADRANGLE_NAME: FRIDLEY PEAK
QUADRANT: SW
WEST_LONGITUDE: -111 0 0.00000
EAST_LONGITUDE: -110 56 15.00000
NORTH_LATITUDE: 45 26 15.00000
SOUTH_LATITUDE: 45 22 30.00000
PRODUCTION_DATE: 1999 5 10
RASTER_ORDER: LEFT_RIGHT/TOP_BOTTOM
BAND_ORGANIZATION: SINGLE FILE
BAND_CONTENT: BLACK&WHITE
BAND_CONTENT: UNDEFINED
BAND_CONTENT: UNDEFINED
BITS_PER_PIXEL: 8
SAMPLES_AND_LINES: 5559 7559
HORIZONTAL_DATUM: NAD83
HORIZONTAL_COORDINATE_SYSTEM: UTM
COORDINATE_ZONE: 12
HORIZONTAL_UNITS: METERS
HORIZONTAL_RESOLUTION: 1.00000
SECONDARY_HORIZONTAL_DATUM: NAD27
XY_ORIGIN: 499638.00000 5031857.00000
SECONDARY_XY_ORIGIN: 499698.00000 5031647.00000
NATION: US
STATE: MT
NW_QUAD_CORNER_XY: 500000.00000 5031552.97400
NE_QUAD_CORNER_XY: 504888.32400 5031554.87400
SE_QUAD_CORNERY_XY: 504893.71800 5024611.42000
SW_QUAD_CORNER_XY: 500000.00000 5024609.52100
SECONDARY_NW_QUAD_XY: 500000.00000 5031335.41500
SECONDARY_NE_QUAD_XY: 504888.47000 5031337.31500
SECONDARY_SE_QUAD_XY: 504893.86400 5024393.91100
SECONDARY_SW_QUAD_XY: 500000.00000 5024392.01200
RMSE_XY: 2.80000
IMAGE_SOURCE: BLACK AND WHITE FILM
SOURCE_IMAGE_ID: NAPP 3859 107
SOURCE_IMAGE_DATE: 1991 3 9
SOURCE_IMAGE_ID: NAPP 3859 106
SOURCE_IMAGE_DATE: 1991 3 9
SOURCE_IMAGE_ID: NAPP 3859 108
SOURCE_IMAGE_DATE: 1991 3 9
SOURCE_IMAGE_ID: NAPP 3859 105
SOURCE_IMAGE_DATE: 1991 3 9
SOURCE_DEM_DATE: 1999 5 10
AGENCY: WESTERN MAPPING CENTER (WMC)
PRODUCER: WESTERN MAPPING CENTER (WMC)
PRODUCTION_SYSTEM: DV2.6.3 10/9OV2.4 5/95
COMPRESSION: UNDEFINED
STANDARD_VERSION: 1996 12
METADATA_DATE: 1999 5 11
DATA_FILE_SIZE: 42026040
BYTE_COUNT: 5559
