FILENAME: O4511035.SES.1114207.tif
QUADRANGLE_NAME: PRAY
QUADRANT: SE
WEST_LONGITUDE: -110 41 15.00000
EAST_LONGITUDE: -110 37 30.00000
NORTH_LATITUDE: 45 26 15.00000
SOUTH_LATITUDE: 45 22 30.00000
PRODUCTION_DATE: 2000 10 17
RASTER_ORDER: LEFT_RIGHT/TOP_BOTTOM
BAND_ORGANIZATION: SINGLE FILE
BAND_CONTENT: BLACK&WHITE
BAND_CONTENT: UNDEFINED
BAND_CONTENT: UNDEFINED
BITS_PER_PIXEL: 8
SAMPLES_AND_LINES: 5610 7590
HORIZONTAL_DATUM: NAD83
HORIZONTAL_COORDINATE_SYSTEM: UTM
COORDINATE_ZONE: 12
HORIZONTAL_UNITS: METERS
HORIZONTAL_RESOLUTION: 1.00000
SECONDARY_HORIZONTAL_DATUM: NAD27
XY_ORIGIN: 524070.00000 5031930.00000
SECONDARY_XY_ORIGIN: 524130.68600 5031719.78200
NATION: US
STATE: MT
NW_QUAD_CORNER_XY: 524441.62100 5031600.46500
NE_QUAD_CORNER_XY: 529329.94400 5031621.36000
SE_QUAD_CORNERY_XY: 529362.30600 5024677.90900
SW_QUAD_CORNER_XY: 524468.58900 5024657.01200
SECONDARY_NW_QUAD_XY: 524442.34900 5031382.90700
SECONDARY_NE_QUAD_XY: 529330.81800 5031403.80300
SECONDARY_SE_QUAD_XY: 529363.17900 5024460.40200
SECONDARY_SW_QUAD_XY: 524469.31700 5024439.50400
RMSE_XY: 1.74000
IMAGE_SOURCE: BLACK AND WHITE FILM
SOURCE_IMAGE_ID: NAPP 11006 38
SOURCE_IMAGE_DATE: 1998 07 21
SOURCE_IMAGE_ID: NAPP 9182 66
SOURCE_IMAGE_DATE: 1997 09 09
SOURCE_DEM_DATE: 1988 00 00
AGENCY: WESTERN MAPPING CENTER (WMC)
PRODUCER: ANALYTICAL SURVEYS INC.
PRODUCTION_SYSTEM: ORBIT OR_RECTIFY V.5.2
COMPRESSION: UNDEFINED
STANDARD_VERSION: 1996 12
METADATA_DATE: 2000 11 03
DATA_FILE_SIZE: 42585510
BYTE_COUNT: 5610
