FILENAME: O4511037.NWS.1114214.tif
QUADRANGLE_NAME: MOUNT COWEN
QUADRANT: NW
WEST_LONGITUDE: -110 30 0.00000
EAST_LONGITUDE: -110 26 15.00000
NORTH_LATITUDE: 45 30 0.00000
SOUTH_LATITUDE: 45 26 15.00000
PRODUCTION_DATE: 2000 10 17
RASTER_ORDER: LEFT_RIGHT/TOP_BOTTOM
BAND_ORGANIZATION: SINGLE FILE
BAND_CONTENT: BLACK&WHITE
BAND_CONTENT: UNDEFINED
BAND_CONTENT: UNDEFINED
BITS_PER_PIXEL: 8
SAMPLES_AND_LINES: 5640 7620
HORIZONTAL_DATUM: NAD83
HORIZONTAL_COORDINATE_SYSTEM: UTM
COORDINATE_ZONE: 12
HORIZONTAL_UNITS: METERS
HORIZONTAL_RESOLUTION: 1.00000
SECONDARY_HORIZONTAL_DATUM: NAD27
XY_ORIGIN: 538680.00000 5038980.00000
SECONDARY_XY_ORIGIN: 538740.32800 5038769.72200
NATION: US
STATE: MT
NW_QUAD_CORNER_XY: 539063.39200 5038618.07700
NE_QUAD_CORNER_XY: 543946.31400 5038650.37000
SE_QUAD_CORNERY_XY: 543994.91000 5031706.84500
SW_QUAD_CORNER_XY: 539106.58900 5031674.55000
SECONDARY_NW_QUAD_XY: 539064.55800 5038400.47200
SECONDARY_NE_QUAD_XY: 543947.62500 5038432.76600
SECONDARY_SE_QUAD_XY: 543996.22100 5031489.29000
SECONDARY_SW_QUAD_XY: 539107.75400 5031456.99500
RMSE_XY: 3.81000
IMAGE_SOURCE: BLACK AND WHITE FILM
SOURCE_IMAGE_ID: NAPP 11017 27
SOURCE_IMAGE_DATE: 1998 08 27
SOURCE_IMAGE_ID: NAPP 11017 66
SOURCE_IMAGE_DATE: 1998 08 27
SOURCE_IMAGE_ID: NAPP 12009 36
SOURCE_IMAGE_DATE: 1999 08 17
SOURCE_IMAGE_ID: NAPP 11017 25
SOURCE_IMAGE_DATE: 1998 08 27
SOURCE_IMAGE_ID: NAPP 12009 34
SOURCE_IMAGE_DATE: 1999 08 17
SOURCE_DEM_DATE: 1993 00 00
AGENCY: WESTERN MAPPING CENTER (WMC)
PRODUCER: ANALYTICAL SURVEYS INC.
PRODUCTION_SYSTEM: ORBIT OR_RECTIFY V.5.2
COMPRESSION: UNDEFINED
STANDARD_VERSION: 1996 12
METADATA_DATE: 2000 11 12
DATA_FILE_SIZE: 42982440
BYTE_COUNT: 5640
