FILENAME: O4511039.NES.1145717.tif
QUADRANGLE_NAME: CHROME MOUNTAIN
QUADRANT: NE
WEST_LONGITUDE: -110 11 15.00000
EAST_LONGITUDE: -110 7 30.00000
NORTH_LATITUDE: 45 30 0.00000
SOUTH_LATITUDE: 45 26 15.00000
PRODUCTION_DATE: 2001 03 26
RASTER_ORDER: LEFT_RIGHT/TOP_BOTTOM
BAND_ORGANIZATION: SINGLE FILE
BAND_CONTENT: BLACK&WHITE
BAND_CONTENT: UNDEFINED
BAND_CONTENT: UNDEFINED
BITS_PER_PIXEL: 8
SAMPLES_AND_LINES: 5640 7650
HORIZONTAL_DATUM: NAD83
HORIZONTAL_COORDINATE_SYSTEM: UTM
COORDINATE_ZONE: 12
HORIZONTAL_UNITS: METERS
HORIZONTAL_RESOLUTION: 1.00000
SECONDARY_HORIZONTAL_DATUM: NAD27
XY_ORIGIN: 563100.00000 5039190.00000
SECONDARY_XY_ORIGIN: 563159.97900 5038979.97400
NATION: US
STATE: MT
NW_QUAD_CORNER_XY: 563477.99200 5038817.53800
NE_QUAD_CORNER_XY: 568360.90800 5038868.82900
SE_QUAD_CORNERY_XY: 568436.50600 5031925.31100
SW_QUAD_CORNER_XY: 563548.18900 5031874.01800
SECONDARY_NW_QUAD_XY: 563479.88600 5038599.93900
SECONDARY_NE_QUAD_XY: 568362.94800 5038651.23200
SECONDARY_SE_QUAD_XY: 568438.54500 5031707.76300
SECONDARY_SW_QUAD_XY: 563550.08200 5031656.46900
RMSE_XY: 3.64000
IMAGE_SOURCE: BLACK AND WHITE FILM
SOURCE_IMAGE_ID: NAPP 9185 69
SOURCE_IMAGE_DATE: 1998 07 20
SOURCE_IMAGE_ID: NAPP 9185 67
SOURCE_IMAGE_DATE: 1998 07 20
SOURCE_IMAGE_ID: NAPP 9185 71
SOURCE_IMAGE_DATE: 1998 07 20
SOURCE_DEM_DATE: 1993 00 00
AGENCY: WESTERN MAPPING CENTER (WMC)
PRODUCER: ANALYTICAL SURVEYS INC.
PRODUCTION_SYSTEM: ORBIT OR_RECTIFY V.5.2
COMPRESSION: UNDEFINED
STANDARD_VERSION: 1996 12
METADATA_DATE: 2001 03 27
DATA_FILE_SIZE: 43151640
BYTE_COUNT: 5640
