FILENAME: O4511040.NWS.1145710.tif
QUADRANGLE_NAME: PICKET PIN MOUNTAIN
QUADRANT: NW
WEST_LONGITUDE: -110 7 30.00000
EAST_LONGITUDE: -110 3 45.00000
NORTH_LATITUDE: 45 30 0.00000
SOUTH_LATITUDE: 45 26 15.00000
PRODUCTION_DATE: 2001 04 04
RASTER_ORDER: LEFT_RIGHT/TOP_BOTTOM
BAND_ORGANIZATION: SINGLE FILE
BAND_CONTENT: BLACK&WHITE
BAND_CONTENT: UNDEFINED
BAND_CONTENT: UNDEFINED
BITS_PER_PIXEL: 8
SAMPLES_AND_LINES: 5640 7650
HORIZONTAL_DATUM: NAD83
HORIZONTAL_COORDINATE_SYSTEM: UTM
COORDINATE_ZONE: 12
HORIZONTAL_UNITS: METERS
HORIZONTAL_RESOLUTION: 1.00000
SECONDARY_HORIZONTAL_DATUM: NAD27
XY_ORIGIN: 567990.00000 5039250.00000
SECONDARY_XY_ORIGIN: 568049.96900 5039040.00800
NATION: US
STATE: MT
NW_QUAD_CORNER_XY: 568360.90800 5038868.82900
NE_QUAD_CORNER_XY: 573243.82400 5038923.92100
SE_QUAD_CORNERY_XY: 573324.82200 5031980.40400
SW_QUAD_CORNER_XY: 568436.50600 5031925.31100
SECONDARY_NW_QUAD_XY: 568362.94800 5038651.23200
SECONDARY_NE_QUAD_XY: 573246.00900 5038706.32500
SECONDARY_SE_QUAD_XY: 573327.00700 5031762.85800
SECONDARY_SW_QUAD_XY: 568438.54500 5031707.76300
RMSE_XY: 3.75000
IMAGE_SOURCE: BLACK AND WHITE FILM
SOURCE_IMAGE_ID: NAPP 9185 34
SOURCE_IMAGE_DATE: 1998 07 20
SOURCE_IMAGE_ID: NAPP 9172 92
SOURCE_IMAGE_DATE: 1997 08 23
SOURCE_IMAGE_ID: NAPP 9185 69
SOURCE_IMAGE_DATE: 1998 07 20
SOURCE_DEM_DATE: 1993 00 00
AGENCY: WESTERN MAPPING CENTER (WMC)
PRODUCER: ANALYTICAL SURVEYS INC.
PRODUCTION_SYSTEM: ORBIT OR_RECTIFY V.5.2
COMPRESSION: UNDEFINED
STANDARD_VERSION: 1996 12
METADATA_DATE: 2001 04 06
DATA_FILE_SIZE: 43151640
BYTE_COUNT: 5640
