FILENAME: O4511042.SWS.1004315.tif
QUADRANGLE_NAME: DAILEY LAKE
QUADRANT: SW
WEST_LONGITUDE: -110 52 30.00000
EAST_LONGITUDE: -110 48 45.00000
NORTH_LATITUDE: 45 18 45.00000
SOUTH_LATITUDE: 45 15 0.00000
PRODUCTION_DATE: 1999 5 10
RASTER_ORDER: LEFT_RIGHT/TOP_BOTTOM
BAND_ORGANIZATION: SINGLE FILE
BAND_CONTENT: BLACK&WHITE
BAND_CONTENT: UNDEFINED
BAND_CONTENT: UNDEFINED
BITS_PER_PIXEL: 8
SAMPLES_AND_LINES: 5576 7563
HORIZONTAL_DATUM: NAD83
HORIZONTAL_COORDINATE_SYSTEM: UTM
COORDINATE_ZONE: 12
HORIZONTAL_UNITS: METERS
HORIZONTAL_RESOLUTION: 1.00000
SECONDARY_HORIZONTAL_DATUM: NAD27
XY_ORIGIN: 509437.00000 5017984.00000
SECONDARY_XY_ORIGIN: 509497.94200 5017773.95300
NATION: US
STATE: MT
NW_QUAD_CORNER_XY: 509798.21100 5017673.74200
NE_QUAD_CORNER_XY: 514697.31700 5017683.24100
SE_QUAD_CORNERY_XY: 514713.46200 5010739.94000
SW_QUAD_CORNER_XY: 509808.97500 5010730.44100
SECONDARY_NW_QUAD_XY: 509798.50300 5017456.28400
SECONDARY_NE_QUAD_XY: 514697.75400 5017465.78300
SECONDARY_SE_QUAD_XY: 514713.89900 5010522.53400
SECONDARY_SW_QUAD_XY: 509809.26600 5010513.03500
RMSE_XY: 1.30000
IMAGE_SOURCE: BLACK AND WHITE FILM
SOURCE_IMAGE_ID: NAPP 11009 130
SOURCE_IMAGE_DATE: 1998 7 22
SOURCE_DEM_DATE: 1999 5 10
AGENCY: WESTERN MAPPING CENTER (WMC)
PRODUCER: WESTERN MAPPING CENTER (WMC)
PRODUCTION_SYSTEM: DV2.6.3 10/9OV2.4 5/95
COMPRESSION: UNDEFINED
STANDARD_VERSION: 1996 12
METADATA_DATE: 1999 5 11
DATA_FILE_SIZE: 42176864
BYTE_COUNT: 5576
