FILENAME: O4511044.NES.1114233.tif
QUADRANGLE_NAME: KNOWLES PEAK
QUADRANT: NE
WEST_LONGITUDE: -110 33 45.00000
EAST_LONGITUDE: -110 30 0.00000
NORTH_LATITUDE: 45 22 30.00000
SOUTH_LATITUDE: 45 18 45.00000
PRODUCTION_DATE: 2000 10 20
RASTER_ORDER: LEFT_RIGHT/TOP_BOTTOM
BAND_ORGANIZATION: SINGLE FILE
BAND_CONTENT: BLACK&WHITE
BAND_CONTENT: UNDEFINED
BAND_CONTENT: UNDEFINED
BITS_PER_PIXEL: 8
SAMPLES_AND_LINES: 5640 7620
HORIZONTAL_DATUM: NAD83
HORIZONTAL_COORDINATE_SYSTEM: UTM
COORDINATE_ZONE: 12
HORIZONTAL_UNITS: METERS
HORIZONTAL_RESOLUTION: 1.00000
SECONDARY_HORIZONTAL_DATUM: NAD27
XY_ORIGIN: 533880.00000 5025060.00000
SECONDARY_XY_ORIGIN: 533940.55900 5024849.79000
NATION: US
STATE: MT
NW_QUAD_CORNER_XY: 534256.02200 5024702.60500
NE_QUAD_CORNER_XY: 539149.73800 5024731.10000
SE_QUAD_CORNERY_XY: 539192.84100 5017787.72500
SW_QUAD_CORNER_XY: 534293.73700 5017759.22900
SECONDARY_NW_QUAD_XY: 534257.04200 5024485.09800
SECONDARY_NE_QUAD_XY: 539150.90300 5024513.59500
SECONDARY_SE_QUAD_XY: 539194.00600 5017570.27100
SECONDARY_SW_QUAD_XY: 534294.75600 5017541.77400
RMSE_XY: 4.81000
IMAGE_SOURCE: BLACK AND WHITE FILM
SOURCE_IMAGE_ID: NAPP 11017 62
SOURCE_IMAGE_DATE: 1998 08 27
SOURCE_IMAGE_ID: NAPP 11017 64
SOURCE_IMAGE_DATE: 1998 08 27
SOURCE_IMAGE_ID: NAPP 11017 31
SOURCE_IMAGE_DATE: 1998 08 27
SOURCE_IMAGE_ID: NAPP 11017 60
SOURCE_IMAGE_DATE: 1998 08 27
SOURCE_IMAGE_ID: NAPP 11007 21
SOURCE_IMAGE_DATE: 1998 07 21
SOURCE_DEM_DATE: 1983 00 00
AGENCY: WESTERN MAPPING CENTER (WMC)
PRODUCER: ANALYTICAL SURVEYS INC.
PRODUCTION_SYSTEM: ORBIT OR_RECTIFY V.5.2
COMPRESSION: UNDEFINED
STANDARD_VERSION: 1996 12
METADATA_DATE: 2000 10 30
DATA_FILE_SIZE: 42982440
BYTE_COUNT: 5640
