FILENAME: O4511045.SES.1114239.tif
QUADRANGLE_NAME: THE PYRAMID
QUADRANT: SE
WEST_LONGITUDE: -110 26 15.00000
EAST_LONGITUDE: -110 22 30.00000
NORTH_LATITUDE: 45 18 45.00000
SOUTH_LATITUDE: 45 15 0.00000
PRODUCTION_DATE: 2000 10 20
RASTER_ORDER: LEFT_RIGHT/TOP_BOTTOM
BAND_ORGANIZATION: SINGLE FILE
BAND_CONTENT: BLACK&WHITE
BAND_CONTENT: UNDEFINED
BAND_CONTENT: UNDEFINED
BITS_PER_PIXEL: 8
SAMPLES_AND_LINES: 5640 7620
HORIZONTAL_DATUM: NAD83
HORIZONTAL_COORDINATE_SYSTEM: UTM
COORDINATE_ZONE: 12
HORIZONTAL_UNITS: METERS
HORIZONTAL_RESOLUTION: 1.00000
SECONDARY_HORIZONTAL_DATUM: NAD27
XY_ORIGIN: 543720.00000 5018160.00000
SECONDARY_XY_ORIGIN: 543780.45700 5017949.88300
NATION: US
STATE: MT
NW_QUAD_CORNER_XY: 544091.94500 5017820.02100
NE_QUAD_CORNER_XY: 548991.04800 5017856.11700
SE_QUAD_CORNERY_XY: 549044.86800 5010912.81900
SW_QUAD_CORNER_XY: 544140.38300 5010876.72300
SECONDARY_NW_QUAD_XY: 544093.25500 5017602.56800
SECONDARY_NE_QUAD_XY: 548992.50400 5017638.66400
SECONDARY_SE_QUAD_XY: 549046.32400 5010695.41800
SECONDARY_SW_QUAD_XY: 544141.69300 5010659.32100
RMSE_XY: 3.29000
IMAGE_SOURCE: BLACK AND WHITE FILM
SOURCE_IMAGE_ID: NAPP 12010 17
SOURCE_IMAGE_DATE: 1999 08 18
SOURCE_IMAGE_ID: NAPP 12010 19
SOURCE_IMAGE_DATE: 1999 08 18
SOURCE_IMAGE_ID: NAPP 11017 33
SOURCE_IMAGE_DATE: 1998 08 27
SOURCE_DEM_DATE: 1981 00 00
AGENCY: WESTERN MAPPING CENTER (WMC)
PRODUCER: ANALYTICAL SURVEYS INC.
PRODUCTION_SYSTEM: ORBIT OR_RECTIFY V.5.2
COMPRESSION: UNDEFINED
STANDARD_VERSION: 1996 12
METADATA_DATE: 2000 10 31
DATA_FILE_SIZE: 42982440
BYTE_COUNT: 5640
