FILENAME: O4511046.SWS.1118718.tif
QUADRANGLE_NAME: THE NEEDLES
QUADRANT: SW
WEST_LONGITUDE: -110 22 30.00000
EAST_LONGITUDE: -110 18 45.00000
NORTH_LATITUDE: 45 18 45.00000
SOUTH_LATITUDE: 45 15 0.00000
PRODUCTION_DATE: 2000 11 02
RASTER_ORDER: LEFT_RIGHT/TOP_BOTTOM
BAND_ORGANIZATION: SINGLE FILE
BAND_CONTENT: BLACK&WHITE
BAND_CONTENT: UNDEFINED
BAND_CONTENT: UNDEFINED
BITS_PER_PIXEL: 8
SAMPLES_AND_LINES: 5640 7620
HORIZONTAL_DATUM: NAD83
HORIZONTAL_COORDINATE_SYSTEM: UTM
COORDINATE_ZONE: 12
HORIZONTAL_UNITS: METERS
HORIZONTAL_RESOLUTION: 1.00000
SECONDARY_HORIZONTAL_DATUM: NAD27
XY_ORIGIN: 548610.00000 5018220.00000
SECONDARY_XY_ORIGIN: 548670.38700 5018009.92700
NATION: US
STATE: MT
NW_QUAD_CORNER_XY: 548991.04800 5017856.11700
NE_QUAD_CORNER_XY: 553890.15100 5017896.01200
SE_QUAD_CORNERY_XY: 553949.35400 5010952.71500
SW_QUAD_CORNER_XY: 549044.86800 5010912.81900
SECONDARY_NW_QUAD_XY: 548992.50400 5017638.66400
SECONDARY_NE_QUAD_XY: 553891.75200 5017678.56100
SECONDARY_SE_QUAD_XY: 553950.95500 5010735.31500
SECONDARY_SW_QUAD_XY: 549046.32400 5010695.41800
RMSE_XY: 4.39000
IMAGE_SOURCE: BLACK AND WHITE FILM
SOURCE_IMAGE_ID: NAPP 9185 265
SOURCE_IMAGE_DATE: 1998 07 20
SOURCE_IMAGE_ID: NAPP 9185 263
SOURCE_IMAGE_DATE: 1998 07 20
SOURCE_IMAGE_ID: NAPP 9185 128
SOURCE_IMAGE_DATE: 1998 07 20
SOURCE_DEM_DATE: 1976 00 00
AGENCY: WESTERN MAPPING CENTER (WMC)
PRODUCER: ANALYTICAL SURVEYS INC.
PRODUCTION_SYSTEM: ORBIT OR_RECTIFY V.5.2
COMPRESSION: UNDEFINED
STANDARD_VERSION: 1996 12
METADATA_DATE: 2000 11 21
DATA_FILE_SIZE: 42982440
BYTE_COUNT: 5640
