FILENAME: O4511046.NES.1118715.tif
QUADRANGLE_NAME: THE NEEDLES
QUADRANT: NE
WEST_LONGITUDE: -110 18 45.00000
EAST_LONGITUDE: -110 15 0.00000
NORTH_LATITUDE: 45 22 30.00000
SOUTH_LATITUDE: 45 18 45.00000
PRODUCTION_DATE: 2000 11 02
RASTER_ORDER: LEFT_RIGHT/TOP_BOTTOM
BAND_ORGANIZATION: SINGLE FILE
BAND_CONTENT: BLACK&WHITE
BAND_CONTENT: UNDEFINED
BAND_CONTENT: UNDEFINED
BITS_PER_PIXEL: 8
SAMPLES_AND_LINES: 5640 7650
HORIZONTAL_DATUM: NAD83
HORIZONTAL_COORDINATE_SYSTEM: UTM
COORDINATE_ZONE: 12
HORIZONTAL_UNITS: METERS
HORIZONTAL_RESOLUTION: 1.00000
SECONDARY_HORIZONTAL_DATUM: NAD27
XY_ORIGIN: 553470.00000 5025210.00000
SECONDARY_XY_ORIGIN: 553530.23700 5024999.94100
NATION: US
STATE: MT
NW_QUAD_CORNER_XY: 553830.88300 5024839.38400
NE_QUAD_CORNER_XY: 558724.59700 5024883.07900
SE_QUAD_CORNERY_XY: 558789.25300 5017939.70700
SW_QUAD_CORNER_XY: 553890.15100 5017896.01200
SECONDARY_NW_QUAD_XY: 553832.48500 5024621.88200
SECONDARY_NE_QUAD_XY: 558726.34400 5024665.57800
SECONDARY_SE_QUAD_XY: 558791.00000 5017722.25700
SECONDARY_SW_QUAD_XY: 553891.75200 5017678.56100
RMSE_XY: 4.12000
IMAGE_SOURCE: BLACK AND WHITE FILM
SOURCE_IMAGE_ID: NAPP 9185 130
SOURCE_IMAGE_DATE: 1998 07 20
SOURCE_IMAGE_ID: NAPP 9185 128
SOURCE_IMAGE_DATE: 1998 07 20
SOURCE_IMAGE_ID: NAPP 9185 263
SOURCE_IMAGE_DATE: 1998 07 20
SOURCE_IMAGE_ID: NAPP 9185 132
SOURCE_IMAGE_DATE: 1998 07 20
SOURCE_DEM_DATE: 1976 00 00
AGENCY: WESTERN MAPPING CENTER (WMC)
PRODUCER: ANALYTICAL SURVEYS INC.
PRODUCTION_SYSTEM: ORBIT OR_RECTIFY V.5.2
COMPRESSION: UNDEFINED
STANDARD_VERSION: 1996 12
METADATA_DATE: 2000 11 21
DATA_FILE_SIZE: 43151640
BYTE_COUNT: 5640
