FILENAME: O4511048.NWS.1145758.tif
QUADRANGLE_NAME: TUMBLE MOUNTAIN
QUADRANT: NW
WEST_LONGITUDE: -110 7 30.00000
EAST_LONGITUDE: -110 3 45.00000
NORTH_LATITUDE: 45 22 30.00000
SOUTH_LATITUDE: 45 18 45.00000
PRODUCTION_DATE: 2001 04 06
RASTER_ORDER: LEFT_RIGHT/TOP_BOTTOM
BAND_ORGANIZATION: SINGLE FILE
BAND_CONTENT: BLACK&WHITE
BAND_CONTENT: UNDEFINED
BAND_CONTENT: UNDEFINED
BITS_PER_PIXEL: 8
SAMPLES_AND_LINES: 5670 7650
HORIZONTAL_DATUM: NAD83
HORIZONTAL_COORDINATE_SYSTEM: UTM
COORDINATE_ZONE: 12
HORIZONTAL_UNITS: METERS
HORIZONTAL_RESOLUTION: 1.00000
SECONDARY_HORIZONTAL_DATUM: NAD27
XY_ORIGIN: 568140.00000 5025360.00000
SECONDARY_XY_ORIGIN: 568200.13000 5025150.02900
NATION: US
STATE: MT
NW_QUAD_CORNER_XY: 568512.02200 5024981.86800
NE_QUAD_CORNER_XY: 573405.73200 5025036.96200
SE_QUAD_CORNERY_XY: 573486.55500 5018093.59400
SW_QUAD_CORNER_XY: 568587.45500 5018038.49800
SECONDARY_NW_QUAD_XY: 568514.06000 5024764.37000
SECONDARY_NE_QUAD_XY: 573407.91700 5024819.46600
SECONDARY_SE_QUAD_XY: 573488.73900 5017876.14900
SECONDARY_SW_QUAD_XY: 568589.49300 5017821.05100
RMSE_XY: 2.11000
IMAGE_SOURCE: BLACK AND WHITE FILM
SOURCE_IMAGE_ID: NAPP 9185 39
SOURCE_IMAGE_DATE: 1998 07 20
SOURCE_IMAGE_ID: NAPP 9185 40
SOURCE_IMAGE_DATE: 1998 07 20
SOURCE_IMAGE_ID: NAPP 9185 65
SOURCE_IMAGE_DATE: 1998 07 20
SOURCE_IMAGE_ID: NAPP 9185 36
SOURCE_IMAGE_DATE: 1998 07 20
SOURCE_IMAGE_ID: NAPP 9185 19
SOURCE_IMAGE_DATE: 1998 07 20
SOURCE_DEM_DATE: 2001 01 01
AGENCY: WESTERN MAPPING CENTER (WMC)
PRODUCER: ANALYTICAL SURVEYS INC.
PRODUCTION_SYSTEM: ORBIT OR_RECTIFY V.5.2
COMPRESSION: UNDEFINED
STANDARD_VERSION: 1996 12
METADATA_DATE: 2001 05 07
DATA_FILE_SIZE: 43381170
BYTE_COUNT: 5670
