FILENAME: O4511048.NES.1145757.tif
QUADRANGLE_NAME: TUMBLE MOUNTAIN
QUADRANT: NE
WEST_LONGITUDE: -110 3 45.00000
EAST_LONGITUDE: -110 0 0.00000
NORTH_LATITUDE: 45 22 30.00000
SOUTH_LATITUDE: 45 18 45.00000
PRODUCTION_DATE: 2001 04 06
RASTER_ORDER: LEFT_RIGHT/TOP_BOTTOM
BAND_ORGANIZATION: SINGLE FILE
BAND_CONTENT: BLACK&WHITE
BAND_CONTENT: UNDEFINED
BAND_CONTENT: UNDEFINED
BITS_PER_PIXEL: 8
SAMPLES_AND_LINES: 5670 7650
HORIZONTAL_DATUM: NAD83
HORIZONTAL_COORDINATE_SYSTEM: UTM
COORDINATE_ZONE: 12
HORIZONTAL_UNITS: METERS
HORIZONTAL_RESOLUTION: 1.00000
SECONDARY_HORIZONTAL_DATUM: NAD27
XY_ORIGIN: 573030.00000 5025420.00000
SECONDARY_XY_ORIGIN: 573090.11400 5025210.04800
NATION: US
STATE: MT
NW_QUAD_CORNER_XY: 573405.73200 5025036.96200
NE_QUAD_CORNER_XY: 578299.44200 5025095.85700
SE_QUAD_CORNERY_XY: 578385.65400 5018152.49100
SW_QUAD_CORNER_XY: 573486.55500 5018093.59400
SECONDARY_NW_QUAD_XY: 573407.91700 5024819.46600
SECONDARY_NE_QUAD_XY: 578301.77300 5024878.36300
SECONDARY_SE_QUAD_XY: 578387.98400 5017935.04700
SECONDARY_SW_QUAD_XY: 573488.73900 5017876.14900
RMSE_XY: 3.32000
IMAGE_SOURCE: BLACK AND WHITE FILM
SOURCE_IMAGE_ID: NAPP 9185 38
SOURCE_IMAGE_DATE: 1998 07 20
SOURCE_IMAGE_ID: NAPP 11012 114
SOURCE_IMAGE_DATE: 1998 08 25
SOURCE_IMAGE_ID: NAPP 9185 21
SOURCE_IMAGE_DATE: 1998 07 20
SOURCE_IMAGE_ID: NAPP 9185 17
SOURCE_IMAGE_DATE: 1998 07 20
SOURCE_IMAGE_ID: NAPP 9185 18
SOURCE_IMAGE_DATE: 1998 07 20
SOURCE_DEM_DATE: 2001 01 01
AGENCY: WESTERN MAPPING CENTER (WMC)
PRODUCER: ANALYTICAL SURVEYS INC.
PRODUCTION_SYSTEM: ORBIT OR_RECTIFY V.5.2
COMPRESSION: UNDEFINED
STANDARD_VERSION: 1996 12
METADATA_DATE: 2001 05 07
DATA_FILE_SIZE: 43381170
BYTE_COUNT: 5670
