FILENAME: O4511049.SES.830037.tif
QUADRANGLE_NAME: MINER
QUADRANT: SE
WEST_LONGITUDE: -110 56 15.00000
EAST_LONGITUDE: -110 52 30.00000
NORTH_LATITUDE: 45 11 15.00000
SOUTH_LATITUDE: 45 7 30.00000
PRODUCTION_DATE: 1997 12 4
RASTER_ORDER: LEFT_RIGHT/TOP_BOTTOM
BAND_ORGANIZATION: SINGLE FILE
BAND_CONTENT: BLACK&WHITE
BAND_CONTENT: UNDEFINED
BAND_CONTENT: UNDEFINED
BITS_PER_PIXEL: 8
SAMPLES_AND_LINES: 5585 7560
HORIZONTAL_DATUM: NAD83
HORIZONTAL_COORDINATE_SYSTEM: UTM
COORDINATE_ZONE: 12
HORIZONTAL_UNITS: METERS
HORIZONTAL_RESOLUTION: 1.00000
SECONDARY_HORIZONTAL_DATUM: NAD27
XY_ORIGIN: 504547.00000 5004088.00000
SECONDARY_XY_ORIGIN: 504608.06000 5003878.15500
NATION: US
NATION: "SCIENCE
STATE: MT
NW_QUAD_CORNER_XY: 504909.86300 5003781.51600
NE_QUAD_CORNER_XY: 509819.72700 5003787.21600
SE_QUAD_CORNERY_XY: 509830.46700 4996844.06700
SW_QUAD_CORNER_XY: 504915.23400 4996838.36800
SECONDARY_NW_QUAD_XY: 504910.00900 5003564.16300
SECONDARY_NE_QUAD_XY: 509820.01800 5003569.86200
SECONDARY_SE_QUAD_XY: 509830.75800 4996626.76700
SECONDARY_SW_QUAD_XY: 504915.37900 4996621.06800
RMSE_XY: 1.60000
IMAGE_SOURCE: BLACK AND WHITE FILM
SOURCE_IMAGE_ID: NAPP 3859 083
SOURCE_IMAGE_DATE: 1991 09 03
SOURCE_IMAGE_ID: NAPP 7830 070
SOURCE_IMAGE_DATE: 1994 09 05
SOURCE_IMAGE_ID: NAPP 3859 084
SOURCE_IMAGE_DATE: 1991 09 03
SOURCE_IMAGE_ID: NAPP 3862 043
SOURCE_IMAGE_DATE: 1991 09 24
SOURCE_DEM_DATE: 1997 01 01
AGENCY: WESTERN MAPPING CENTER (WMC)
PRODUCER: UNDEFINED
PRODUCTION_SYSTEM: GIS/MAGIC
COMPRESSION: UNDEFINED
STANDARD_VERSION: 1996 12
METADATA_DATE: 1997 12 04
DATA_FILE_SIZE: 42228185
BYTE_COUNT: 5585
