FILENAME: O4511051.NWS.830010.tif
QUADRANGLE_NAME: MONITOR PEAK
QUADRANT: NW
WEST_LONGITUDE: -110 45 0.00000
EAST_LONGITUDE: -110 41 15.00000
NORTH_LATITUDE: 45 15 0.00000
SOUTH_LATITUDE: 45 11 15.00000
PRODUCTION_DATE: 1997 12 4
RASTER_ORDER: LEFT_RIGHT/TOP_BOTTOM
BAND_ORGANIZATION: SINGLE FILE
BAND_CONTENT: BLACK&WHITE
BAND_CONTENT: UNDEFINED
BAND_CONTENT: UNDEFINED
BITS_PER_PIXEL: 8
SAMPLES_AND_LINES: 5595 7571
HORIZONTAL_DATUM: NAD83
HORIZONTAL_COORDINATE_SYSTEM: UTM
COORDINATE_ZONE: 12
HORIZONTAL_UNITS: METERS
HORIZONTAL_RESOLUTION: 1.00000
SECONDARY_HORIZONTAL_DATUM: NAD27
XY_ORIGIN: 519256.00000 5011071.00000
SECONDARY_XY_ORIGIN: 519316.97800 5010860.73800
NATION: US
NATION: "SCIENCE
STATE: MT
NW_QUAD_CORNER_XY: 519617.95000 5010753.23700
NE_QUAD_CORNER_XY: 524522.43700 5010770.33500
SE_QUAD_CORNERY_XY: 524549.31700 5003827.11100
SW_QUAD_CORNER_XY: 519639.45400 5003810.01300
SECONDARY_NW_QUAD_XY: 519618.53200 5010535.83200
SECONDARY_NE_QUAD_XY: 524523.16500 5010552.93000
SECONDARY_SE_QUAD_XY: 524550.04400 5003609.75800
SECONDARY_SW_QUAD_XY: 519640.03600 5003592.66000
RMSE_XY: 2.40000
IMAGE_SOURCE: BLACK AND WHITE FILM
SOURCE_IMAGE_ID: NAPP 3859 164
SOURCE_IMAGE_DATE: 1991 09 03
SOURCE_IMAGE_ID: NAPP 3859 141
SOURCE_IMAGE_DATE: 1991 09 03
SOURCE_IMAGE_ID: NAPP 3859 163
SOURCE_IMAGE_DATE: 1991 09 03
SOURCE_IMAGE_ID: NAPP 3859 165
SOURCE_IMAGE_DATE: 1991 09 03
SOURCE_IMAGE_ID: NAPP 3859 175
SOURCE_IMAGE_DATE: 1991 09 03
SOURCE_DEM_DATE: 1997 01 01
AGENCY: WESTERN MAPPING CENTER (WMC)
PRODUCER: UNDEFINED
PRODUCTION_SYSTEM: GIS/MAGIC
COMPRESSION: UNDEFINED
STANDARD_VERSION: 1996 12
METADATA_DATE: 1998 01 21
DATA_FILE_SIZE: 42365340
BYTE_COUNT: 5595
