FILENAME: O4511051.NES.830008.tif
QUADRANGLE_NAME: MONITOR PEAK
QUADRANT: NE
WEST_LONGITUDE: -110 41 15.00000
EAST_LONGITUDE: -110 37 30.00000
NORTH_LATITUDE: 45 15 0.00000
SOUTH_LATITUDE: 45 11 15.00000
PRODUCTION_DATE: 1998 1 21
RASTER_ORDER: LEFT_RIGHT/TOP_BOTTOM
BAND_ORGANIZATION: SINGLE FILE
BAND_CONTENT: BLACK&WHITE
BAND_CONTENT: UNDEFINED
BAND_CONTENT: UNDEFINED
BITS_PER_PIXEL: 8
SAMPLES_AND_LINES: 5600 7575
HORIZONTAL_DATUM: NAD83
HORIZONTAL_COORDINATE_SYSTEM: UTM
COORDINATE_ZONE: 12
HORIZONTAL_UNITS: METERS
HORIZONTAL_RESOLUTION: 1.00000
SECONDARY_HORIZONTAL_DATUM: NAD27
XY_ORIGIN: 524161.00000 5011092.00000
SECONDARY_XY_ORIGIN: 524221.88100 5010881.77400
NATION: US
NATION: "SCIENCE
STATE: MT
NW_QUAD_CORNER_XY: 524522.43700 5010770.33500
NE_QUAD_CORNER_XY: 529426.92400 5010791.23200
SE_QUAD_CORNERY_XY: 529459.18000 5003848.00800
SW_QUAD_CORNER_XY: 524549.31700 5003827.11100
SECONDARY_NW_QUAD_XY: 524523.16500 5010552.93000
SECONDARY_NE_QUAD_XY: 529427.79700 5010573.82800
SECONDARY_SE_QUAD_XY: 529460.05300 5003630.65700
SECONDARY_SW_QUAD_XY: 524550.04400 5003609.75800
RMSE_XY: 2.60000
IMAGE_SOURCE: BLACK AND WHITE FILM
SOURCE_IMAGE_ID: NAPP 3859 175
SOURCE_IMAGE_DATE: 1991 09 03
SOURCE_IMAGE_ID: NAPP 3859 176
SOURCE_IMAGE_DATE: 1991 09 03
SOURCE_IMAGE_ID: NAPP 3859 174
SOURCE_IMAGE_DATE: 1991 09 03
SOURCE_IMAGE_ID: NAPP 3858 076
SOURCE_IMAGE_DATE: 1991 08 30
SOURCE_IMAGE_ID: NAPP 3858 077
SOURCE_IMAGE_DATE: 1991 08 30
SOURCE_DEM_DATE: 1997 01 01
AGENCY: WESTERN MAPPING CENTER (WMC)
PRODUCER: UNDEFINED
PRODUCTION_SYSTEM: GIS/MAGIC
COMPRESSION: UNDEFINED
STANDARD_VERSION: 1996 12
METADATA_DATE: 1998 01 21
DATA_FILE_SIZE: 42425600
BYTE_COUNT: 5600
