FILENAME: O4511052.SWS.829992.tif
QUADRANGLE_NAME: MINERAL MOUNTAIN
QUADRANT: SW
WEST_LONGITUDE: -110 37 30.00000
EAST_LONGITUDE: -110 33 45.00000
NORTH_LATITUDE: 45 11 15.00000
SOUTH_LATITUDE: 45 7 30.00000
PRODUCTION_DATE: 1997 12 4
RASTER_ORDER: LEFT_RIGHT/TOP_BOTTOM
BAND_ORGANIZATION: SINGLE FILE
BAND_CONTENT: BLACK&WHITE
BAND_CONTENT: UNDEFINED
BAND_CONTENT: UNDEFINED
BITS_PER_PIXEL: 8
SAMPLES_AND_LINES: 5610 7578
HORIZONTAL_DATUM: NAD83
HORIZONTAL_COORDINATE_SYSTEM: UTM
COORDINATE_ZONE: 12
HORIZONTAL_UNITS: METERS
HORIZONTAL_RESOLUTION: 1.00000
SECONDARY_HORIZONTAL_DATUM: NAD27
XY_ORIGIN: 529098.00000 5004173.00000
SECONDARY_XY_ORIGIN: 529158.83200 5003962.90200
NATION: US
NATION: "SCIENCE
STATE: MT
NW_QUAD_CORNER_XY: 529459.18000 5003848.00800
NE_QUAD_CORNER_XY: 534369.04300 5003872.70600
SE_QUAD_CORNERY_XY: 534406.63400 4996929.55800
SW_QUAD_CORNER_XY: 529491.40100 4996904.86000
SECONDARY_NW_QUAD_XY: 529460.05300 5003630.65700
SECONDARY_NE_QUAD_XY: 534370.06100 5003655.35500
SECONDARY_SE_QUAD_XY: 534407.65200 4996712.26000
SECONDARY_SW_QUAD_XY: 529492.27400 4996687.56200
RMSE_XY: 4.50000
IMAGE_SOURCE: BLACK AND WHITE FILM
SOURCE_IMAGE_ID: NAPP 3860 016
SOURCE_IMAGE_DATE: 1991 09 03
SOURCE_IMAGE_ID: NAPP 3859 177
SOURCE_IMAGE_DATE: 1991 09 03
SOURCE_IMAGE_ID: NAPP 7830 055
SOURCE_IMAGE_DATE: 1994 09 05
SOURCE_IMAGE_ID: NAPP 3858 075
SOURCE_IMAGE_DATE: 1991 08 30
SOURCE_IMAGE_ID: NAPP 7830 054
SOURCE_IMAGE_DATE: 1994 09 05
SOURCE_DEM_DATE: 1997 01 01
AGENCY: WESTERN MAPPING CENTER (WMC)
PRODUCER: UNDEFINED
PRODUCTION_SYSTEM: GIS/MAGIC
COMPRESSION: UNDEFINED
STANDARD_VERSION: 1996 12
METADATA_DATE: 1998 01 21
DATA_FILE_SIZE: 42518190
BYTE_COUNT: 5610
