FILENAME: O4511052.SES.829990.tif
QUADRANGLE_NAME: MINERAL MOUNTAIN
QUADRANT: SE
WEST_LONGITUDE: -110 33 45.00000
EAST_LONGITUDE: -110 30 0.00000
NORTH_LATITUDE: 45 11 15.00000
SOUTH_LATITUDE: 45 7 30.00000
PRODUCTION_DATE: 1998 1 21
RASTER_ORDER: LEFT_RIGHT/TOP_BOTTOM
BAND_ORGANIZATION: SINGLE FILE
BAND_CONTENT: BLACK&WHITE
BAND_CONTENT: UNDEFINED
BAND_CONTENT: UNDEFINED
BITS_PER_PIXEL: 8
SAMPLES_AND_LINES: 5615 7582
HORIZONTAL_DATUM: NAD83
HORIZONTAL_COORDINATE_SYSTEM: UTM
COORDINATE_ZONE: 12
HORIZONTAL_UNITS: METERS
HORIZONTAL_RESOLUTION: 1.00000
SECONDARY_HORIZONTAL_DATUM: NAD27
XY_ORIGIN: 534008.00000 5004202.00000
SECONDARY_XY_ORIGIN: 534068.74700 5003991.92700
NATION: US
NATION: "SCIENCE
STATE: MT
NW_QUAD_CORNER_XY: 534369.04300 5003872.70600
NE_QUAD_CORNER_XY: 539278.90500 5003901.20300
SE_QUAD_CORNERY_XY: 539321.86700 4996958.05500
SW_QUAD_CORNER_XY: 534406.63400 4996929.55800
SECONDARY_NW_QUAD_XY: 534370.06100 5003655.35500
SECONDARY_NE_QUAD_XY: 539280.06900 5003683.85300
SECONDARY_SE_QUAD_XY: 539323.03100 4996740.75800
SECONDARY_SW_QUAD_XY: 534407.65200 4996712.26000
RMSE_XY: 1.50000
IMAGE_SOURCE: BLACK AND WHITE FILM
SOURCE_IMAGE_ID: NAPP 3860 016
SOURCE_IMAGE_DATE: 1991 09 03
SOURCE_IMAGE_ID: NAPP 7830 054
SOURCE_IMAGE_DATE: 1994 09 05
SOURCE_IMAGE_ID: NAPP 3860 017
SOURCE_IMAGE_DATE: 1991 09 03
SOURCE_IMAGE_ID: NAPP 7829 218
SOURCE_IMAGE_DATE: 1994 09 05
SOURCE_IMAGE_ID: NAPP 3858 045
SOURCE_IMAGE_DATE: 1991 08 30
SOURCE_DEM_DATE: 1997 01 01
AGENCY: WESTERN MAPPING CENTER (WMC)
PRODUCER: UNDEFINED
PRODUCTION_SYSTEM: GIS/MAGIC
COMPRESSION: UNDEFINED
STANDARD_VERSION: 1996 12
METADATA_DATE: 1998 01 21
DATA_FILE_SIZE: 42578545
BYTE_COUNT: 5615
