FILENAME: O4511053.NES.829952.tif
QUADRANGLE_NAME: MOUNT WALLACE
QUADRANT: NE
WEST_LONGITUDE: -110 26 15.00000
EAST_LONGITUDE: -110 22 30.00000
NORTH_LATITUDE: 45 15 0.00000
SOUTH_LATITUDE: 45 11 15.00000
PRODUCTION_DATE: 1997 12 4
RASTER_ORDER: LEFT_RIGHT/TOP_BOTTOM
BAND_ORGANIZATION: SINGLE FILE
BAND_CONTENT: BLACK&WHITE
BAND_CONTENT: UNDEFINED
BAND_CONTENT: UNDEFINED
BITS_PER_PIXEL: 8
SAMPLES_AND_LINES: 5620 7589
HORIZONTAL_DATUM: NAD83
HORIZONTAL_COORDINATE_SYSTEM: UTM
COORDINATE_ZONE: 12
HORIZONTAL_UNITS: METERS
HORIZONTAL_RESOLUTION: 1.00000
SECONDARY_HORIZONTAL_DATUM: NAD27
XY_ORIGIN: 543780.00000 5011213.00000
SECONDARY_XY_ORIGIN: 543840.52800 5011002.92000
NATION: US
NATION: "SCIENCE
STATE: MT
NW_QUAD_CORNER_XY: 544140.38300 5010876.72200
NE_QUAD_CORNER_XY: 549044.86800 5010912.81900
SE_QUAD_CORNERY_XY: 549098.63000 5003969.59600
SW_QUAD_CORNER_XY: 544188.76800 5003933.50000
SECONDARY_NW_QUAD_XY: 544141.69300 5010659.32100
SECONDARY_NE_QUAD_XY: 549046.32400 5010695.41800
SECONDARY_SE_QUAD_XY: 549100.08500 5003752.24800
SECONDARY_SW_QUAD_XY: 544190.07700 5003716.15000
RMSE_XY: 2.50000
IMAGE_SOURCE: BLACK AND WHITE FILM
SOURCE_IMAGE_ID: NAPP 3858 015
SOURCE_IMAGE_DATE: 1991 08 30
SOURCE_IMAGE_ID: NAPP 3858 043
SOURCE_IMAGE_DATE: 1991 08 30
SOURCE_IMAGE_ID: NAPP 3858 014
SOURCE_IMAGE_DATE: 1991 08 30
SOURCE_IMAGE_ID: NAPP 3858 016
SOURCE_IMAGE_DATE: 1991 08 30
SOURCE_IMAGE_ID: NAPP 3857 288
SOURCE_IMAGE_DATE: 1991 08 30
SOURCE_DEM_DATE: 1997 01 01
AGENCY: WESTERN MAPPING CENTER (WMC)
PRODUCER: UNDEFINED
PRODUCTION_SYSTEM: GIS/MAGIC
COMPRESSION: UNDEFINED
STANDARD_VERSION: 1996 12
METADATA_DATE: 1998 01 21
DATA_FILE_SIZE: 42655800
BYTE_COUNT: 5620
